BEGIN:VCALENDAR
VERSION:2.0
PRODID:-//Derby Entrepreneurship Center at Tufts - ECPv6.15.16//NONSGML v1.0//EN
CALSCALE:GREGORIAN
METHOD:PUBLISH
X-ORIGINAL-URL:https://derbyecenter.tufts.edu
X-WR-CALDESC:Events for Derby Entrepreneurship Center at Tufts
REFRESH-INTERVAL;VALUE=DURATION:PT1H
X-Robots-Tag:noindex
X-PUBLISHED-TTL:PT1H
BEGIN:VTIMEZONE
TZID:America/New_York
BEGIN:DAYLIGHT
TZOFFSETFROM:-0500
TZOFFSETTO:-0400
TZNAME:EDT
DTSTART:20230312T070000
END:DAYLIGHT
BEGIN:STANDARD
TZOFFSETFROM:-0400
TZOFFSETTO:-0500
TZNAME:EST
DTSTART:20231105T060000
END:STANDARD
BEGIN:DAYLIGHT
TZOFFSETFROM:-0500
TZOFFSETTO:-0400
TZNAME:EDT
DTSTART:20240310T070000
END:DAYLIGHT
BEGIN:STANDARD
TZOFFSETFROM:-0400
TZOFFSETTO:-0500
TZNAME:EST
DTSTART:20241103T060000
END:STANDARD
BEGIN:DAYLIGHT
TZOFFSETFROM:-0500
TZOFFSETTO:-0400
TZNAME:EDT
DTSTART:20250309T070000
END:DAYLIGHT
BEGIN:STANDARD
TZOFFSETFROM:-0400
TZOFFSETTO:-0500
TZNAME:EST
DTSTART:20251102T060000
END:STANDARD
END:VTIMEZONE
BEGIN:VEVENT
DTSTART;TZID=America/New_York:20240403T090000
DTEND;TZID=America/New_York:20240403T100000
DTSTAMP:20260422T032605
CREATED:20240323T225246Z
LAST-MODIFIED:20240323T225304Z
UID:10410-1712134800-1712138400@derbyecenter.tufts.edu
SUMMARY:Beyond VC Funding: Alternative Fundraising Methods
DESCRIPTION:
URL:https://derbyecenter.tufts.edu/event/beyond-vc-funding-alternative-fundraising-methods/
CATEGORIES:Ecosystem Event
ATTACH;FMTTYPE=image/jpeg:https://derbyecenter.tufts.edu/wp-content/uploads/2024/03/download-2.jpg
END:VEVENT
BEGIN:VEVENT
DTSTART;TZID=America/New_York:20240412T090000
DTEND;TZID=America/New_York:20240414T160000
DTSTAMP:20260422T032605
CREATED:20240219T202615Z
LAST-MODIFIED:20240219T224656Z
UID:9999-1712912400-1713110400@derbyecenter.tufts.edu
SUMMARY:Student Event: Food 4 Thought
DESCRIPTION:Food 4 Thought\, or F4T\, is a first-of-its-kind food festival bringing together students from global universities to envision the future of the food system. Over the course of three days\, participants will embark on a journey through the food system with various student-run panels\, workshops\, activities\, career networking\, an Idea Lab\, Research Incubator\, interactive learning opportunities.\, and a plant-based/alt protein World Cultural Food Festival \nAside from the multitude of events and programs that they offer\, attendees will have the chance to meet hundreds of like-minded students who share their passion for addressing critical food systems challenges. You will gain access to a vast networking of mentors and organizations that cover a diverse range of careers. You will have the opportunity strategize and organize projects that will extend beyond the scope of the festival. You will be able to join field visits to learn more about opportunities in the Boston/Greater Northeast Area. You will have the chance to receive funding and technical assistance for ideas ranging from research projects to club initiatives to start-ups and more. You will gain access to our communication platform that will keep you connected with the world of food innovators for years to come. \nWhile the festival is centered around students\, the organizers encourage anyone interested in the future of food to join them. \nHosted by Food 4 Thought\, an initiative led by Tufts University and Harvard University students
URL:https://derbyecenter.tufts.edu/event/food4thought24/
LOCATION:Harvard University
CATEGORIES:Ecosystem Event
ATTACH;FMTTYPE=image/png:https://derbyecenter.tufts.edu/wp-content/uploads/2024/02/food4thought.png
END:VEVENT
BEGIN:VEVENT
DTSTART;VALUE=DATE:20240422
DTEND;VALUE=DATE:20240423
DTSTAMP:20260422T032606
CREATED:20240412T141255Z
LAST-MODIFIED:20240412T213129Z
UID:10636-1713744000-1713830399@derbyecenter.tufts.edu
SUMMARY:Ecosystem Event: SOSV Climate Tech Summit: Earth Day
DESCRIPTION:
URL:https://derbyecenter.tufts.edu/event/sosvclimatetech/
CATEGORIES:Ecosystem Event
ATTACH;FMTTYPE=image/jpeg:https://derbyecenter.tufts.edu/wp-content/uploads/2024/04/header-earth-day-plus-wide-1-1536x444-1.jpg
END:VEVENT
BEGIN:VEVENT
DTSTART;VALUE=DATE:20240423
DTEND;VALUE=DATE:20240425
DTSTAMP:20260422T032606
CREATED:20240406T192116Z
LAST-MODIFIED:20240412T213416Z
UID:10617-1713830400-1714003199@derbyecenter.tufts.edu
SUMMARY:Ecosystem Event: Frontiers of Entrepreneurship: Raise the Bar
DESCRIPTION:
URL:https://derbyecenter.tufts.edu/event/frontiers-of-entrepreneurship-raise-the-bar/
LOCATION:Martin Trust Center for MIT Entrepreneurship\, 1 Amherst Street E40-160\, Cambridge\, MA\, 02142\, United States
CATEGORIES:Ecosystem Event
ATTACH;FMTTYPE=image/jpeg:https://derbyecenter.tufts.edu/wp-content/uploads/2024/04/mit.jpg
END:VEVENT
BEGIN:VEVENT
DTSTART;TZID=America/New_York:20240424T180000
DTEND;TZID=America/New_York:20240426T200000
DTSTAMP:20260422T032606
CREATED:20240412T140615Z
LAST-MODIFIED:20240412T213230Z
UID:10631-1713981600-1714161600@derbyecenter.tufts.edu
SUMMARY:Ecosystem Event: HAX Deep Tech Boston
DESCRIPTION:
URL:https://derbyecenter.tufts.edu/event/hax-deep-tech/
CATEGORIES:Ecosystem Event
ATTACH;FMTTYPE=image/png:https://derbyecenter.tufts.edu/wp-content/uploads/2024/04/hax.png
END:VEVENT
BEGIN:VEVENT
DTSTART;TZID=America/New_York:20240425T073000
DTEND;TZID=America/New_York:20240425T173000
DTSTAMP:20260422T032606
CREATED:20240323T223033Z
LAST-MODIFIED:20240412T213200Z
UID:10404-1714030200-1714066200@derbyecenter.tufts.edu
SUMMARY:Ecosystem Event: TechCrunch Early Stage 2024
DESCRIPTION:
URL:https://derbyecenter.tufts.edu/event/techcrunch-early-stage-2024/
LOCATION:SoWa Power Station\, 550 Harrison Avenue\, Boston
CATEGORIES:Ecosystem Event
ATTACH;FMTTYPE=image/png:https://derbyecenter.tufts.edu/wp-content/uploads/2024/03/screencapture-techcrunch-wp-content-uploads-2022-11-volunteer-1200x628-png-2024-03-23-18_26_15.png
END:VEVENT
BEGIN:VEVENT
DTSTART;TZID=America/New_York:20240425T180000
DTEND;TZID=America/New_York:20240425T210000
DTSTAMP:20260422T032606
CREATED:20240412T142307Z
LAST-MODIFIED:20240412T142312Z
UID:10641-1714068000-1714078800@derbyecenter.tufts.edu
SUMMARY:Ecosystem Event: Innovator's Night 2024: Celebrating BU's Rising Stars!
DESCRIPTION:
URL:https://derbyecenter.tufts.edu/event/techstarsstartupweekend24-2/
LOCATION:Boston University
CATEGORIES:Ecosystem Event
ATTACH;FMTTYPE=image/jpeg:https://derbyecenter.tufts.edu/wp-content/uploads/2024/04/bu.jpg
END:VEVENT
BEGIN:VEVENT
DTSTART;TZID=America/New_York:20240426T170000
DTEND;TZID=America/New_York:20240428T180000
DTSTAMP:20260422T032606
CREATED:20240219T201300Z
LAST-MODIFIED:20240325T071720Z
UID:9994-1714150800-1714327200@derbyecenter.tufts.edu
SUMMARY:Ecosystem Event: Techstars Boston Startup Weekend
DESCRIPTION:Techstars Boston is hosting the second Boston Startup Weekend. In 54 thrilling hours\, you will take an idea and turn it into an startup. \n\n\nMeet the best investors\, co-founders\, sponsors and mentors who show you how to get it done. \nHosted by Techstars Boston
URL:https://derbyecenter.tufts.edu/event/techstarsstartupweekend24/
LOCATION:Harvard iLab\, Batten Hall\, 125 Western Ave\,\, Allston\, MA\, 02134\, United States
CATEGORIES:Ecosystem Event
ATTACH;FMTTYPE=image/png:https://derbyecenter.tufts.edu/wp-content/uploads/2024/02/Screenshot-2024-02-19-at-3.01.25-PM.png
END:VEVENT
END:VCALENDAR