BEGIN:VCALENDAR
VERSION:2.0
PRODID:-//Derby Entrepreneurship Center at Tufts - ECPv6.15.16//NONSGML v1.0//EN
CALSCALE:GREGORIAN
METHOD:PUBLISH
X-WR-CALNAME:Derby Entrepreneurship Center at Tufts
X-ORIGINAL-URL:https://derbyecenter.tufts.edu
X-WR-CALDESC:Events for Derby Entrepreneurship Center at Tufts
REFRESH-INTERVAL;VALUE=DURATION:PT1H
X-Robots-Tag:noindex
X-PUBLISHED-TTL:PT1H
BEGIN:VTIMEZONE
TZID:America/New_York
BEGIN:DAYLIGHT
TZOFFSETFROM:-0500
TZOFFSETTO:-0400
TZNAME:EDT
DTSTART:20220313T070000
END:DAYLIGHT
BEGIN:STANDARD
TZOFFSETFROM:-0400
TZOFFSETTO:-0500
TZNAME:EST
DTSTART:20221106T060000
END:STANDARD
BEGIN:DAYLIGHT
TZOFFSETFROM:-0500
TZOFFSETTO:-0400
TZNAME:EDT
DTSTART:20230312T070000
END:DAYLIGHT
BEGIN:STANDARD
TZOFFSETFROM:-0400
TZOFFSETTO:-0500
TZNAME:EST
DTSTART:20231105T060000
END:STANDARD
BEGIN:DAYLIGHT
TZOFFSETFROM:-0500
TZOFFSETTO:-0400
TZNAME:EDT
DTSTART:20240310T070000
END:DAYLIGHT
BEGIN:STANDARD
TZOFFSETFROM:-0400
TZOFFSETTO:-0500
TZNAME:EST
DTSTART:20241103T060000
END:STANDARD
END:VTIMEZONE
BEGIN:VEVENT
DTSTART;TZID=America/New_York:20231005T120000
DTEND;TZID=America/New_York:20231005T190000
DTSTAMP:20260423T192316
CREATED:20231001T164234Z
LAST-MODIFIED:20231001T164234Z
UID:8684-1696507200-1696532400@derbyecenter.tufts.edu
SUMMARY:Ecosystem Event: Commonwealth Kitchen Food Show
DESCRIPTION:Looking to discover the next culinary craze\, hidden gem\, or emerging food trend? The CommonWealth Kitchen Food Show has you covered. \nFeaturing Greater Boston’s most innovative\, exciting\, and diverse food entrepreneurs\, our food show fuses local talent and global influences with raw passion\, ensuring you’ll find just the right thing to entice and delight customers\, clients\, and patrons. \nWhether you’re searching for delectable baked goods\, tangy sauces and condiments to elevate and differentiate your dishes\, unique food trucks and caterers for your next event\, or simply looking to be inspired and excited by awesome entrepreneurs and their delicious food products\, our food show won’t disappoint.
URL:https://derbyecenter.tufts.edu/event/ecosystem-event-commonwealth-kitchen-food-show/
LOCATION:SoWa Power Station\, 550 Harrison Avenue\, Boston
CATEGORIES:Ecosystem Event
ATTACH;FMTTYPE=image/jpeg:https://derbyecenter.tufts.edu/wp-content/uploads/2023/10/foodshow.jpg
END:VEVENT
END:VCALENDAR