BEGIN:VCALENDAR
VERSION:2.0
PRODID:-//Derby Entrepreneurship Center at Tufts - ECPv6.15.16//NONSGML v1.0//EN
CALSCALE:GREGORIAN
METHOD:PUBLISH
X-ORIGINAL-URL:https://derbyecenter.tufts.edu
X-WR-CALDESC:Events for Derby Entrepreneurship Center at Tufts
REFRESH-INTERVAL;VALUE=DURATION:PT1H
X-Robots-Tag:noindex
X-PUBLISHED-TTL:PT1H
BEGIN:VTIMEZONE
TZID:America/New_York
BEGIN:DAYLIGHT
TZOFFSETFROM:-0500
TZOFFSETTO:-0400
TZNAME:EDT
DTSTART:20220313T070000
END:DAYLIGHT
BEGIN:STANDARD
TZOFFSETFROM:-0400
TZOFFSETTO:-0500
TZNAME:EST
DTSTART:20221106T060000
END:STANDARD
BEGIN:DAYLIGHT
TZOFFSETFROM:-0500
TZOFFSETTO:-0400
TZNAME:EDT
DTSTART:20230312T070000
END:DAYLIGHT
BEGIN:STANDARD
TZOFFSETFROM:-0400
TZOFFSETTO:-0500
TZNAME:EST
DTSTART:20231105T060000
END:STANDARD
BEGIN:DAYLIGHT
TZOFFSETFROM:-0500
TZOFFSETTO:-0400
TZNAME:EDT
DTSTART:20240310T070000
END:DAYLIGHT
BEGIN:STANDARD
TZOFFSETFROM:-0400
TZOFFSETTO:-0500
TZNAME:EST
DTSTART:20241103T060000
END:STANDARD
END:VTIMEZONE
BEGIN:VEVENT
DTSTART;VALUE=DATE:20231128
DTEND;VALUE=DATE:20231130
DTSTAMP:20260423T024035
CREATED:20231106T171828Z
LAST-MODIFIED:20231106T171828Z
UID:8905-1701129600-1701302399@derbyecenter.tufts.edu
SUMMARY:Ecosystem Event: National SBIR Innovation Summit
DESCRIPTION:Join America’s Seed Fund\, co-located with the Defense TechConnect Innovation Conference and Expo\, in Washington\, DC this November 28 – 30. \nLearn more here: https://events.techconnect.org/DTCFall/sbir.html \nExplore the nation’s largest source of funding for early-stage research and development in small businesses with the SBIR and STTR programs. Join us to connect with experts\, enhance proposal submissions\, and unlock resources for innovation. \n Program Highlights: \n\n SBIR 101\nAgency reverse pitches\nNavigating phase I\, II and III\nPanel: Working With Defense Primes\n\n Don’t miss your opportunity to hear firsthand how SBIR/STTR can help you take your next step.
URL:https://derbyecenter.tufts.edu/event/ecosystem-event-national-sbir-innovation-summit/
CATEGORIES:Ecosystem Event
ATTACH;FMTTYPE=image/jpeg:https://derbyecenter.tufts.edu/wp-content/uploads/2023/11/unnamed.jpg
END:VEVENT
BEGIN:VEVENT
DTSTART;VALUE=DATE:20231128
DTEND;VALUE=DATE:20231201
DTSTAMP:20260423T024035
CREATED:20231012T210957Z
LAST-MODIFIED:20231106T171431Z
UID:8729-1701129600-1701388799@derbyecenter.tufts.edu
SUMMARY:Ecosystem Event: Defense TechConnect 2023
DESCRIPTION:Meet-and-greet with the Small Business Innovation Research (SBIR) and Small Business Technology Transfer (STTR) agencies! They’re the nation’s largest source of early stage\, high-risk research and development funding for small businesses that provide more than $4 billion annually in competitive awards\, enabling entrepreneurs to develop new technologies and ultimately facilitate the commercialization of innovation. \nRegister for Defense TechConnect 2023 and get the opportunity to meet with and hear from SBIR/STTR leaders and experts\, as they share their insights on how to submit more competitive proposals and leverage available resources. \nRegister here: https://events.techconnect.org/DTCFall/register.html \nNOVEMBER 28-30\, 2023\nWASHINGTON\, DC
URL:https://derbyecenter.tufts.edu/event/defense-techconnect-2023/
CATEGORIES:Pitch Competition,Ecosystem Event
ATTACH;FMTTYPE=image/jpeg:https://derbyecenter.tufts.edu/wp-content/uploads/2023/10/unnamed.jpg
END:VEVENT
BEGIN:VEVENT
DTSTART;TZID=America/New_York:20231128T180000
DTEND;TZID=America/New_York:20231128T200000
DTSTAMP:20260423T024035
CREATED:20231122T013844Z
LAST-MODIFIED:20231127T230013Z
UID:9003-1701194400-1701201600@derbyecenter.tufts.edu
SUMMARY:Ecosystem Event: Term Sheet Negotiation Exercise
DESCRIPTION:Site: https://lu.ma/usi2jar4 \nIf you’ve ever wanted to learn how term sheets are negotiated (or want to practice)\, this event is for you. Join Rock Yard Ventures\, Citizens Bank\, and Gunderson Dettmer on November 28th for a mock term sheet negotiation exercise and a night of networking\, food\, and drinks! \n​​​Term sheets are a crucial part of any funding round\, setting the company valuation\, VC equity stake\, and other terms of the deal. Join your team\, play the role of VC or founder\, and win the deal! \n​​​Afterward\, join your peers and other participants from a myriad of VC firms for food\, drinks\, and networking. \n​​About the hosts:\n​Rock Yard Ventures is a Seed-stage focused venture capital firm investing in B2B software across core industries such as construction\, supply chain\, and manufacturing – the modern-day ditch diggers\, hammer swingers\, and garbage collectors. \n​Citizens Bank is a trusted financial institution dedicated to empowering individuals\, businesses\, and communities to reach their financial goals. With a rich history and a commitment to customer-centric banking\, Citizens Bank offers a wide range of banking and financial services\, including checking and savings accounts\, loans\, mortgages\, and investment solutions. \n​​​Gunderson Dettmer is the preeminent international law firm with an exclusive focus on the innovation economy. They serve forward-thinking private technology and life sciences companies and their investors through inception\, growth\, and maturity\, as well as the groundbreaking public companies that result from the global venture capital ecosystem.
URL:https://derbyecenter.tufts.edu/event/term-sheet-negotiation-exercise/
LOCATION:South Boston Waterfront\, Boston\, MA
CATEGORIES:Ecosystem Event
ATTACH;FMTTYPE=image/png:https://derbyecenter.tufts.edu/wp-content/uploads/2023/11/screencapture-images-lumacdn-cdn-cgi-image-format-auto-fit-cover-dpr-1-quality-75-width-400-height-400-event-covers-9k-7673baf4-afee-4315-add0-34ae320cd696-2023-11-21-20_33_23.png
END:VEVENT
END:VCALENDAR