BEGIN:VCALENDAR
VERSION:2.0
PRODID:-//Derby Entrepreneurship Center at Tufts - ECPv6.15.16//NONSGML v1.0//EN
CALSCALE:GREGORIAN
METHOD:PUBLISH
X-WR-CALNAME:Derby Entrepreneurship Center at Tufts
X-ORIGINAL-URL:https://derbyecenter.tufts.edu
X-WR-CALDESC:Events for Derby Entrepreneurship Center at Tufts
REFRESH-INTERVAL;VALUE=DURATION:PT1H
X-Robots-Tag:noindex
X-PUBLISHED-TTL:PT1H
BEGIN:VTIMEZONE
TZID:America/New_York
BEGIN:DAYLIGHT
TZOFFSETFROM:-0500
TZOFFSETTO:-0400
TZNAME:EDT
DTSTART:20250309T070000
END:DAYLIGHT
BEGIN:STANDARD
TZOFFSETFROM:-0400
TZOFFSETTO:-0500
TZNAME:EST
DTSTART:20251102T060000
END:STANDARD
BEGIN:DAYLIGHT
TZOFFSETFROM:-0500
TZOFFSETTO:-0400
TZNAME:EDT
DTSTART:20260308T070000
END:DAYLIGHT
BEGIN:STANDARD
TZOFFSETFROM:-0400
TZOFFSETTO:-0500
TZNAME:EST
DTSTART:20261101T060000
END:STANDARD
BEGIN:DAYLIGHT
TZOFFSETFROM:-0500
TZOFFSETTO:-0400
TZNAME:EDT
DTSTART:20270314T070000
END:DAYLIGHT
BEGIN:STANDARD
TZOFFSETFROM:-0400
TZOFFSETTO:-0500
TZNAME:EST
DTSTART:20271107T060000
END:STANDARD
END:VTIMEZONE
BEGIN:VEVENT
DTSTART;TZID=America/New_York:20260211T113000
DTEND;TZID=America/New_York:20260211T133000
DTSTAMP:20260419T163843
CREATED:20251216T213546Z
LAST-MODIFIED:20260205T222636Z
UID:15242-1770809400-1770816600@derbyecenter.tufts.edu
SUMMARY:Tufts Consumer Product Fair - Spring 2026
DESCRIPTION:Did you know that many current Tufts students\, faculty\, staff and alumni have businesses selling consumer products and services like hoodies\, packaged snacks\, bottled beverages\, photography services and more? \nStop by the 1st floor of Joyce Cummings Center and learn about the retail businesses that Tufts students\, faculty\, staff and alumni are building. Become a customer and support a Jumbo! \nIf you are a Tufts student\, faculty\, staff member or local alumni who has a current consumer-facing business\, submit the vendor application form by February 6\, 2026. \n			\n				Apply to become a vendor\n			\n			\n				\n				\n				\n				\n			\n				\n				\n				\n				\n				\n				\n				\n				\n				\n				\n				Airtable Grey Background
URL:https://derbyecenter.tufts.edu/event/consumerfairs26/
LOCATION:First Floor Lobby\, Joyce Cummings Center\, 177 College Avenue\, Medford\, MA\, 02155\, United States
CATEGORIES:entrepreneurship
ATTACH;FMTTYPE=image/jpeg:https://derbyecenter.tufts.edu/wp-content/uploads/2025/12/2026-02-11-Consumer-Product-Fair.jpg
END:VEVENT
END:VCALENDAR