BEGIN:VCALENDAR
VERSION:2.0
PRODID:-//Derby Entrepreneurship Center at Tufts - ECPv6.15.16//NONSGML v1.0//EN
CALSCALE:GREGORIAN
METHOD:PUBLISH
X-WR-CALNAME:Derby Entrepreneurship Center at Tufts
X-ORIGINAL-URL:https://derbyecenter.tufts.edu
X-WR-CALDESC:Events for Derby Entrepreneurship Center at Tufts
REFRESH-INTERVAL;VALUE=DURATION:PT1H
X-Robots-Tag:noindex
X-PUBLISHED-TTL:PT1H
BEGIN:VTIMEZONE
TZID:America/New_York
BEGIN:DAYLIGHT
TZOFFSETFROM:-0500
TZOFFSETTO:-0400
TZNAME:EDT
DTSTART:20230312T070000
END:DAYLIGHT
BEGIN:STANDARD
TZOFFSETFROM:-0400
TZOFFSETTO:-0500
TZNAME:EST
DTSTART:20231105T060000
END:STANDARD
BEGIN:DAYLIGHT
TZOFFSETFROM:-0500
TZOFFSETTO:-0400
TZNAME:EDT
DTSTART:20240310T070000
END:DAYLIGHT
BEGIN:STANDARD
TZOFFSETFROM:-0400
TZOFFSETTO:-0500
TZNAME:EST
DTSTART:20241103T060000
END:STANDARD
BEGIN:DAYLIGHT
TZOFFSETFROM:-0500
TZOFFSETTO:-0400
TZNAME:EDT
DTSTART:20250309T070000
END:DAYLIGHT
BEGIN:STANDARD
TZOFFSETFROM:-0400
TZOFFSETTO:-0500
TZNAME:EST
DTSTART:20251102T060000
END:STANDARD
END:VTIMEZONE
BEGIN:VEVENT
DTSTART;TZID=America/New_York:20241021T180000
DTEND;TZID=America/New_York:20241021T191500
DTSTAMP:20260419T231245
CREATED:20240911T163644Z
LAST-MODIFIED:20241021T221521Z
UID:12292-1729533600-1729538100@derbyecenter.tufts.edu
SUMMARY:Fireside chat with Chris Gardner\, Early Stage Investor at Underscore VC
DESCRIPTION:Chris Gardner\, Partner at Underscore VC\, will join us for a fireside chat about all things early-stage investing: what they look for in a team\, the attributes of a great opportunity in a great market\, the kind of validation and traction that get investors excited and more. \nAbout Chris Gardner: \nChris is Underscore VC’s resident builder\, happiest when he’s hands-on with a project. At Underscore VC\, that means identifying and investing in uniquely qualified founders\, and then helping to build their company in any way needed: networker\, salesperson\, mentor\, coach\, psychotherapist\, even drinking buddy. \nHis tinkering and building extend to his personal life\, where you’ll find him getting hands-on in any manner of project. Car maintenance? He has a lift in his garage. Music? He’s recording an album in his barn studio. Cooking? His BBQ ribs are the stuff of legend. In short\, if he can get his hands on it\, he can master it (except golf; don’t ever ask Chris to play golf). \nThough he’s known as a FinTech entrepreneur\, Chris is a self-professed nerd and technology omnivore who\, prior to Underscore VC\, spent nearly three decades at companies focused on speech recognition\, video streaming\, mobile marketing\, mobile messaging\, e-billing\, and document management. His last five roles all resulted in exits that created good outcomes for employees and investors. \nMost recently\, Chris was an executive at PayPal and led their P2P\, PayPal Here\, and In-Store payments products after Paydiant\, the company he co-founded and built\, was acquired by PayPal in 2015. Prior to that\, Chris was CMO and head of products at ExtendMedia\, a video content delivery and commerce platform software company that was acquired by Cisco in 2010; SVP of Products and Marketing at m-Qube\, North America’s leading premium SMS mobile payments provider that was acquired by Verisign in 2006; and VP of Products and Marketing at edocs\, Inc.\, an e-billing\, payments\, and customer self-service company that was acquired by Siebel Systems in 2004. \nChris earned a BA in Communications from the University of Massachusetts at Amherst a really long time ago. \nThis event is part of the Entrepreneurial Speaker Series\, hosted by the Derby Entrepreneurship Center at Tufts University. \n 
URL:https://derbyecenter.tufts.edu/event/chrisgardner/
LOCATION:Joyce Cummings Center\, 177 College Ave\, Medford\, 02155\, United States
CATEGORIES:Speaker Series,entrepreneurship
ATTACH;FMTTYPE=image/jpeg:https://derbyecenter.tufts.edu/wp-content/uploads/2024/09/chrisgardner-socialshare2.jpg
END:VEVENT
BEGIN:VEVENT
DTSTART;TZID=America/New_York:20241017T183000
DTEND;TZID=America/New_York:20241017T203000
DTSTAMP:20260419T231245
CREATED:20240926T185137Z
LAST-MODIFIED:20241014T191330Z
UID:12638-1729189800-1729197000@derbyecenter.tufts.edu
SUMMARY:What It Takes To Be A Non-Profit Leader!
DESCRIPTION:Join us for the 3rd Annual Delta Upsilon Speaker Series. Listen\, engage and network with friends\, professors and Tufts alums about what it takes to be successful as dynamic leaders in the complex world of not-for-profits. Pizza will be served at 6:00pm. Open to all! \nConfirmed Speakers: \n\nJay Calnan\, E87 – Co-Founder\, Team Impact\nLily Siddall – Head Coach of Tufts Women’s Rowing – 2024 NCAA Champions\nChris Nowinski – Founding CEO of the Concussion Legacy Foundation\n\nHosted by: \n\nDavid Radlo\, A86 – Board Advisor and Operating Partner\, DavidRadlo.com & FVLCRUM Funds\nJack Derby\, Founder\, Derby Entrepreneurship Center; CEO\, Derby Management
URL:https://derbyecenter.tufts.edu/event/nonprofitleader/
LOCATION:Cabot\, ASEAN Auditorium
CATEGORIES:Speaker Series,entrepreneurship
ATTACH;FMTTYPE=image/jpeg:https://derbyecenter.tufts.edu/wp-content/uploads/2024/09/2024-DU-Event-Social.jpg
END:VEVENT
BEGIN:VEVENT
DTSTART;TZID=America/New_York:20241015T180000
DTEND;TZID=America/New_York:20241015T193000
DTSTAMP:20260419T231245
CREATED:20240911T163038Z
LAST-MODIFIED:20241014T184112Z
UID:12285-1729015200-1729020600@derbyecenter.tufts.edu
SUMMARY:Fireside Chat With Marc Lore\, Serial Entrepreneur\, Moonshot Seeker\, NBA Owner
DESCRIPTION:Join us for an interactive fireside chat with Marc Lore\, visionary entrepreneur\, investor\, moonshot seeker and NBA owner. From selling Jet.com to Walmart for $3.3 billion to leading Walmart’s eCommerce\, Marc will share insights on innovation\, leadership\, and his latest venture as CEO of Wonder Group. Don’t miss this chance to hear from a game-changing business leader! \nAbout Marc Lore: \nMarc Lore is Founder\, Chairman\, and CEO of Wonder Group\, a company that’s reinventing the at-home dining experience. Wonder is led by a team of proven entrepreneurs\, some of the world’s greatest chefs and culinary experts\, talented innovators from every area of the business\, and backed by top-tier venture capitalists. \nLore is also the newest NBA owner having purchased the Minnesota Timberwolves and Minnesota Lynx in Spring 2021 with his friend and business partner\, Alex Rodriguez. \nLore is the lead and largest investor in Archer\, an aerospace company building an all-electric vertical takeoff and landing aircraft focused on improving mobility in cities. He is also Co-Founder and investor of Wizard\, a company transforming e-commerce with conversational AI\, and Mojo\, a sports stock market\, where fans can use their knowledge to invest in sports like never before. \nTelosa is Lore’s legacy project – a city he is building from scratch to test a new model for society\, called Equitism. The city will eventually house five million residents and plans to set the global standard for urban living and expand human potential by becoming a blueprint for future generations. \nPrior to this\, Lore started and sold four companies\, most recently\, Jet.com which was acquired by Walmart in 2016 for $3.3 billion. Until 2021\, Lore served as the president and CEO of Walmart U.S. eCommerce. Lore was also the co-founder and CEO of Quidsi\, the parent company of e-commerce websites Diapers.com\, Soap.com\, Wag.com\, and more. The company was sold to Amazon in 2011 for $550 million. \nHe graduated from Bucknell University\, receiving a Bachelor of Arts in business management and economics. \nThis event is part of the Entrepreneurial Celebrity Series\, hosted by the Derby Entrepreneurship Center at Tufts University.
URL:https://derbyecenter.tufts.edu/event/marclore/
LOCATION:Joyce Cummings Center\, 177 College Ave\, Medford\, 02155\, United States
CATEGORIES:Speaker Series,entrepreneurship
ATTACH;FMTTYPE=image/jpeg:https://derbyecenter.tufts.edu/wp-content/uploads/2024/09/marclore-social2.jpg
END:VEVENT
BEGIN:VEVENT
DTSTART;TZID=America/New_York:20240925T120000
DTEND;TZID=America/New_York:20240925T140000
DTSTAMP:20260419T231245
CREATED:20240814T190328Z
LAST-MODIFIED:20240815T031214Z
UID:11995-1727265600-1727272800@derbyecenter.tufts.edu
SUMMARY:Tufts Consumer Product Fair - Fall 2024
DESCRIPTION:Did you know that many current Tufts students\, faculty\, staff and alumni have businesses selling consumer products and services like hoodies\, packaged snacks\, bottled beverages\, photography services and more? Come learn about the retail businesses that Tufts students\, faculty\, staff and alumni are building. Become a customer and support a Jumbo! \nIf you are a Tufts student\, faculty\, staff member or local alumni who has a current consumer-facing business\, complete this form to apply to become a vendor.https://derbyecenter.tufts.edu/vendorapplication \nThis event will be held in the Joyce Cummings Center\, 177 College Avenue\, Medford\, MA. No signup necessary. Just come! \n			\n				\n				\n				\n				\n				Confirmed vendors to date:
URL:https://derbyecenter.tufts.edu/event/consumerfairf24/
LOCATION:Joyce Cummings Center\, 177 College Ave\, Medford\, 02155\, United States
CATEGORIES:Innovation month,entrepreneurship
ATTACH;FMTTYPE=image/jpeg:https://derbyecenter.tufts.edu/wp-content/uploads/2024/08/IMONTH-Consumer-Product-Fair.jpeg
END:VEVENT
BEGIN:VEVENT
DTSTART;TZID=America/New_York:20240917T180000
DTEND;TZID=America/New_York:20240917T200000
DTSTAMP:20260419T231245
CREATED:20240809T204056Z
LAST-MODIFIED:20240911T162555Z
UID:11892-1726596000-1726603200@derbyecenter.tufts.edu
SUMMARY:Maker Faire
DESCRIPTION:Join us at Nolop\, Tufts’ premiere maker space\, for an evening of maker fun. You will learn to make things with your hands in one of the very best academic makerspaces in the greater Boston area. No experience is necessary! Open to students\, faculty and staff members. This event is co-hosted by Nolop and Derby Entrepreneurship Center at Tufts. \nLocation details: Meet us at the Nolop Makerspace. Enter the Science and Engineering Complex (SEC) from 200 College Avenue. At the bottom of the stairs\, take a hard left. The entrance to Nolop is tucked under the stairs.
URL:https://derbyecenter.tufts.edu/event/makerfaire/
LOCATION:Nolop Science and Engineering Center\, 200 College Ave\, Medford\, United States
CATEGORIES:Workshops,Innovation month,entrepreneurship
ATTACH;FMTTYPE=image/jpeg:https://derbyecenter.tufts.edu/wp-content/uploads/2024/08/Maker-Faire.jpg
END:VEVENT
BEGIN:VEVENT
DTSTART;TZID=America/New_York:20240911T170000
DTEND;TZID=America/New_York:20240911T190000
DTSTAMP:20260419T231245
CREATED:20240809T201707Z
LAST-MODIFIED:20240906T183045Z
UID:11887-1726074000-1726081200@derbyecenter.tufts.edu
SUMMARY:Entrepreneurial Taco Social
DESCRIPTION:Join us for a taco\, meet and mingle with Tufts innovators and entrepreneurs\, and learn how Derby Entrepreneurship Center can support your entrepreneurial journey. Faculty and staff will be available to answer questions on academics\, business plan competitions\, and co-curricular events. Watch lightening pitches on new ventures founded by Tufts students.
URL:https://derbyecenter.tufts.edu/event/tacos-fall24/
LOCATION:Patio Outside the Tsungming Tu Complex\, 200 College Ave\, Medford\, MA\, 02155
CATEGORIES:Networking,Innovation month,entrepreneurship
ATTACH;FMTTYPE=image/jpeg:https://derbyecenter.tufts.edu/wp-content/uploads/2024/08/Taco-Social-Sept-11.jpeg
END:VEVENT
BEGIN:VEVENT
DTSTART;TZID=America/New_York:20240911T120000
DTEND;TZID=America/New_York:20240911T130000
DTSTAMP:20260419T231245
CREATED:20240809T195532Z
LAST-MODIFIED:20240819T153806Z
UID:11879-1726056000-1726059600@derbyecenter.tufts.edu
SUMMARY:Cookie Giveaway
DESCRIPTION:Stop by to say hello to our Derby Entrepreneurship Center interns outside the Mayer Campus Center\, grab a cookie\, and learn how to connect with entrepreneurial opportunities on Tufts campus! No registration required.
URL:https://derbyecenter.tufts.edu/event/cookies-fall24/
LOCATION:Mayer Campus Center\, 44 Professors Row\, Medford\, MA\, 02155
CATEGORIES:Innovation month,entrepreneurship
ATTACH;FMTTYPE=image/jpeg:https://derbyecenter.tufts.edu/wp-content/uploads/2024/08/IMONTH-Cookies.jpeg
END:VEVENT
BEGIN:VEVENT
DTSTART;TZID=America/New_York:20240905T120000
DTEND;TZID=America/New_York:20240905T150000
DTSTAMP:20260419T231245
CREATED:20240809T202937Z
LAST-MODIFIED:20240814T205835Z
UID:11889-1725537600-1725548400@derbyecenter.tufts.edu
SUMMARY:SMFA Resource Fair and Scavenger Hunt
DESCRIPTION:SAVE THE DATE! Derby Entrepreneurship Center will be on the SMFA campus talking with students about how how SMFA students can develop their ideas into new ventures. Learn about our business plan competitions and the coaching that is available to help you on your entrepreneurial journey. DEC will also be participating in a scavenger hunt. How many DEC items can you find? Join us for the fun!
URL:https://derbyecenter.tufts.edu/event/smfa-resource-fair-and-scavenger-hunt/
LOCATION:SMFA Campus\, Boston\, MA\, United States
CATEGORIES:Innovation month,entrepreneurship
ATTACH;FMTTYPE=image/jpeg:https://derbyecenter.tufts.edu/wp-content/uploads/2024/08/IMONTH-SMFA-resource-fair.jpeg
END:VEVENT
BEGIN:VEVENT
DTSTART;TZID=America/New_York:20240828T120000
DTEND;TZID=America/New_York:20240828T130000
DTSTAMP:20260419T231245
CREATED:20240827T184649Z
LAST-MODIFIED:20240827T184649Z
UID:12149-1724846400-1724850000@derbyecenter.tufts.edu
SUMMARY:Lunch and Learn with Dental Entrepreneurship
DESCRIPTION:Interested in entrepreneurship? Join this lunch and learn with the Derby Entrepreneurship Center and learn how DEC can support you in your entrepreneurial goals. We have individualized coaching\, online learning\, and more! Hear about the upcoming Ideas Competition as well as our flagship New Ventures Competition. Pizza will be provided.
URL:https://derbyecenter.tufts.edu/event/lunch-and-learn-with-dental-entrepreneurship/
LOCATION:Tufts Dental School\, Rachel’s 1415\, Boston\, United States
CATEGORIES:Information Sesssion,Innovation month,entrepreneurship
ATTACH;FMTTYPE=image/jpeg:https://derbyecenter.tufts.edu/wp-content/uploads/2024/08/Entrepreneurship-Club-Image.jpg
END:VEVENT
END:VCALENDAR