BEGIN:VCALENDAR
VERSION:2.0
PRODID:-//Derby Entrepreneurship Center at Tufts - ECPv6.15.16//NONSGML v1.0//EN
CALSCALE:GREGORIAN
METHOD:PUBLISH
X-WR-CALNAME:Derby Entrepreneurship Center at Tufts
X-ORIGINAL-URL:https://derbyecenter.tufts.edu
X-WR-CALDESC:Events for Derby Entrepreneurship Center at Tufts
REFRESH-INTERVAL;VALUE=DURATION:PT1H
X-Robots-Tag:noindex
X-PUBLISHED-TTL:PT1H
BEGIN:VTIMEZONE
TZID:America/New_York
BEGIN:DAYLIGHT
TZOFFSETFROM:-0500
TZOFFSETTO:-0400
TZNAME:EDT
DTSTART:20220313T070000
END:DAYLIGHT
BEGIN:STANDARD
TZOFFSETFROM:-0400
TZOFFSETTO:-0500
TZNAME:EST
DTSTART:20221106T060000
END:STANDARD
BEGIN:DAYLIGHT
TZOFFSETFROM:-0500
TZOFFSETTO:-0400
TZNAME:EDT
DTSTART:20230312T070000
END:DAYLIGHT
BEGIN:STANDARD
TZOFFSETFROM:-0400
TZOFFSETTO:-0500
TZNAME:EST
DTSTART:20231105T060000
END:STANDARD
BEGIN:DAYLIGHT
TZOFFSETFROM:-0500
TZOFFSETTO:-0400
TZNAME:EDT
DTSTART:20240310T070000
END:DAYLIGHT
BEGIN:STANDARD
TZOFFSETFROM:-0400
TZOFFSETTO:-0500
TZNAME:EST
DTSTART:20241103T060000
END:STANDARD
END:VTIMEZONE
BEGIN:VEVENT
DTSTART;TZID=America/New_York:20231004T170000
DTEND;TZID=America/New_York:20231004T193000
DTSTAMP:20260419T112320
CREATED:20230930T202532Z
LAST-MODIFIED:20230930T202746Z
UID:8673-1696438800-1696447800@derbyecenter.tufts.edu
SUMMARY:Cross University Event: MIT $15k Arts Startup Incubator Kickoff
DESCRIPTION:Arts Startup Incubator Kickoff\nOctober 4\, 2023\n5pm-7:30pm | iHQ (E38) 7th Floor Hacker Reactor\nKickoff this year’s MIT Arts Startup Incubator! Hear from past finalists about their ventures’ entrepreneurial journeys at MIT. Learn how teams leveraged multiple innovation opportunities–like Sandbox\, IDEAS\, delta v\, designX\, and the Arts Startup Incubator–to find resources\, develop skills\, workshop prototypes\, and build momentum to launch their arts-focused startups. Stay to get your questions answered\, find new collaborators\, get feedback on your application\, and enjoy free food.  This event is free and open to the public — the Arts Startup Incubator welcomes applications from teams with at least one MIT student — so\, come and make friends! \nDoors and food at 5pm; activities start at 5:30pm.  \nRegister here.
URL:https://derbyecenter.tufts.edu/event/crossuni-mitartslaunch/
LOCATION:MIT iHQ Hacker Reactor\, 292 Main Street\, MIT iHQ (E38) 7th Floor\,\, Cambridge\, 02142\, United States
CATEGORIES:cross-university-mixers
ATTACH;FMTTYPE=image/png:https://derbyecenter.tufts.edu/wp-content/uploads/2023/09/Screenshot-2023-09-30-at-4.19.07-PM.png
END:VEVENT
BEGIN:VEVENT
DTSTART;TZID=America/New_York:20230922T170000
DTEND;TZID=America/New_York:20230922T190000
DTSTAMP:20260419T112320
CREATED:20230605T202744Z
LAST-MODIFIED:20230826T004253Z
UID:7954-1695402000-1695409200@derbyecenter.tufts.edu
SUMMARY:In-Person CUSI (Cross University Student Innovator) Mixer @Tufts
DESCRIPTION:Are you making the most of this awesome city? With 74 universities and nearly 250\,000 college students\, Boston’s unique student economy is the engine that drives innovation. This is your chance to connect with other innovators eager to change the world\, meet potential cofounders or team members\, and chat with people who understand #startuplife. Aspiring innovators\, founders\, and entrepreneurs from Babson\, Olin\, Wellesley\, Boston College\, Boston University\, Brandeis\, Harvard\, MIT\, Tufts\, UMass Amherst\, UMass Lowell\, and more will be there! \nPlease ensure you also fill out the profile form here to connect with peer innovators. There is an optional form you can fill out if you would like to join our optional Pitch-to-Match – pitch an idea to get team members\, or pitch your interests to join a team. We’ve had great success forming cross-university teams in past mixers\, so if you are looking for people to partner with\, go for it!  \nhttps://airtable.com/shruEUc8L9Kt4DG6r  \nThe Cross University Student Innovator Mixer is a multi-school collaboration between MIT\, Harvard\, Tufts\, Babson\, Boston University\, UMass Lowell and many more. It is a great opportunity to meet students from other schools in the ecosystem and cross-pollinate. \n 
URL:https://derbyecenter.tufts.edu/event/cusi-0922-2/
LOCATION:Joyce Cummings Center\, 177 College Ave\, Medford\, 02155\, United States
CATEGORIES:Networking,Innovation month,cross-university-mixers
ATTACH;FMTTYPE=image/jpeg:https://derbyecenter.tufts.edu/wp-content/uploads/2023/06/cusimixer.jpg
END:VEVENT
BEGIN:VEVENT
DTSTART;TZID=America/New_York:20230921T173000
DTEND;TZID=America/New_York:20230921T193000
DTSTAMP:20260419T112320
CREATED:20230901T183911Z
LAST-MODIFIED:20240122T203949Z
UID:8505-1695317400-1695324600@derbyecenter.tufts.edu
SUMMARY:Community Event - Pitch2Match - Martin Trust Center for MIT Entrepreneurship
DESCRIPTION:Start off the school year & network\, connect\, and create your next opportunity or build your team with one slide & 60 seconds! \nFounders: find co-founders and talented team members.\nJoiners: find a startup to share your talents and skills. \nOr simply discover like-minded individuals who share your passions for possible future opportunities!\nDress Casual (jeans ok)\nFood Provided (Food provided during post-event networking.)
URL:https://derbyecenter.tufts.edu/event/pitch-to-match/
LOCATION:Stata Center\, 1 Amherst St. Cambridge
CATEGORIES:Networking,cross-university-mixers
ATTACH;FMTTYPE=image/png:https://derbyecenter.tufts.edu/wp-content/uploads/2023/09/Pitch-to-Match.png
END:VEVENT
BEGIN:VEVENT
DTSTART;TZID=America/New_York:20230713T180000
DTEND;TZID=America/New_York:20230713T200000
DTSTAMP:20260419T112320
CREATED:20230605T202310Z
LAST-MODIFIED:20230606T200341Z
UID:7950-1689271200-1689278400@derbyecenter.tufts.edu
SUMMARY:Cross-University Student Accelerator Mixer (CUSA)
DESCRIPTION:Are you participating in a student accelerator with a university in the greater Boston ecosystem? If so\, we invite you to join the Tufts Venture Accelerator Cohort on our Medford Campus to mingle with student entrepreneurs from peer universities to compare notes on the ins and outs of new venture creation. \nYou will meet other student entrepreneurs who are in the same company life stage. You will be able to trade stories and resources. You will meet people who can open the alumni networks of other universities for you. Most importantly\, you will meet peer teams who will become your extended support system. \nHosted by the Derby Entrepreneurship Center at Tufts in collaboration with Babson\, Boston University\, MIT\, Northeastern University and Yale University.
URL:https://derbyecenter.tufts.edu/event/crossumixer-0713/
LOCATION:Patio Outside the Tsungming Tu Complex\, 200 College Ave\, Medford\, MA\, 02155
CATEGORIES:Networking,TVA23,cross-university-mixers
ATTACH;FMTTYPE=image/jpeg:https://derbyecenter.tufts.edu/wp-content/uploads/2022/08/Taco-4-scaled.jpg
END:VEVENT
END:VCALENDAR