BEGIN:VCALENDAR
VERSION:2.0
PRODID:-//Derby Entrepreneurship Center at Tufts - ECPv6.15.16//NONSGML v1.0//EN
CALSCALE:GREGORIAN
METHOD:PUBLISH
X-ORIGINAL-URL:https://derbyecenter.tufts.edu
X-WR-CALDESC:Events for Derby Entrepreneurship Center at Tufts
REFRESH-INTERVAL;VALUE=DURATION:PT1H
X-Robots-Tag:noindex
X-PUBLISHED-TTL:PT1H
BEGIN:VTIMEZONE
TZID:America/New_York
BEGIN:DAYLIGHT
TZOFFSETFROM:-0500
TZOFFSETTO:-0400
TZNAME:EDT
DTSTART:20230312T070000
END:DAYLIGHT
BEGIN:STANDARD
TZOFFSETFROM:-0400
TZOFFSETTO:-0500
TZNAME:EST
DTSTART:20231105T060000
END:STANDARD
BEGIN:DAYLIGHT
TZOFFSETFROM:-0500
TZOFFSETTO:-0400
TZNAME:EDT
DTSTART:20240310T070000
END:DAYLIGHT
BEGIN:STANDARD
TZOFFSETFROM:-0400
TZOFFSETTO:-0500
TZNAME:EST
DTSTART:20241103T060000
END:STANDARD
BEGIN:DAYLIGHT
TZOFFSETFROM:-0500
TZOFFSETTO:-0400
TZNAME:EDT
DTSTART:20250309T070000
END:DAYLIGHT
BEGIN:STANDARD
TZOFFSETFROM:-0400
TZOFFSETTO:-0500
TZNAME:EST
DTSTART:20251102T060000
END:STANDARD
END:VTIMEZONE
BEGIN:VEVENT
DTSTART;TZID=America/New_York:20240208T180000
DTEND;TZID=America/New_York:20240208T190000
DTSTAMP:20260424T204027
CREATED:20240118T182656Z
LAST-MODIFIED:20240207T235025Z
UID:9451-1707415200-1707418800@derbyecenter.tufts.edu
SUMMARY:Pitch to Match @ Tufts - pitch an idea or skill to form teams
DESCRIPTION:Do you have an idea and need to recruit team members? Or do you have interests and skills and are looking for a team to join? Come meet people at our Pitch to Match event and find team members to work on projects together – potentially applying to the Tufts $100k New Ventures Competition as a team. \nThis event will be held at the Venture Lab\, Room 301\, Joyce Cummings Center\, 177 College Avenue\, Medford\, MA. \nThe pizza is on us! Hope to see you soon! \nIf you are joining via Zoom\, here is the link.\nhttps://bit.ly/dec-eventzoom
URL:https://derbyecenter.tufts.edu/event/pitch2match-feb24/
LOCATION:Tufts Venture Lab (JCC301)\, 177 College Ave\, Medford\, MA\, 02155\, United States
CATEGORIES:Networking,Tufts $100k New Ventures Competition
ATTACH;FMTTYPE=image/jpeg:https://derbyecenter.tufts.edu/wp-content/uploads/2024/01/pitch2match-feb24-SQUARE-v2.jpg
END:VEVENT
END:VCALENDAR