BEGIN:VCALENDAR
VERSION:2.0
PRODID:-//Derby Entrepreneurship Center at Tufts - ECPv6.15.16//NONSGML v1.0//EN
CALSCALE:GREGORIAN
METHOD:PUBLISH
X-WR-CALNAME:Derby Entrepreneurship Center at Tufts
X-ORIGINAL-URL:https://derbyecenter.tufts.edu
X-WR-CALDESC:Events for Derby Entrepreneurship Center at Tufts
REFRESH-INTERVAL;VALUE=DURATION:PT1H
X-Robots-Tag:noindex
X-PUBLISHED-TTL:PT1H
BEGIN:VTIMEZONE
TZID:America/New_York
BEGIN:DAYLIGHT
TZOFFSETFROM:-0500
TZOFFSETTO:-0400
TZNAME:EDT
DTSTART:20250309T070000
END:DAYLIGHT
BEGIN:STANDARD
TZOFFSETFROM:-0400
TZOFFSETTO:-0500
TZNAME:EST
DTSTART:20251102T060000
END:STANDARD
BEGIN:DAYLIGHT
TZOFFSETFROM:-0500
TZOFFSETTO:-0400
TZNAME:EDT
DTSTART:20260308T070000
END:DAYLIGHT
BEGIN:STANDARD
TZOFFSETFROM:-0400
TZOFFSETTO:-0500
TZNAME:EST
DTSTART:20261101T060000
END:STANDARD
BEGIN:DAYLIGHT
TZOFFSETFROM:-0500
TZOFFSETTO:-0400
TZNAME:EDT
DTSTART:20270314T070000
END:DAYLIGHT
BEGIN:STANDARD
TZOFFSETFROM:-0400
TZOFFSETTO:-0500
TZNAME:EST
DTSTART:20271107T060000
END:STANDARD
END:VTIMEZONE
BEGIN:VEVENT
DTSTART;TZID=America/New_York:20260210T100000
DTEND;TZID=America/New_York:20260210T111500
DTSTAMP:20260420T144711
CREATED:20260201T194630Z
LAST-MODIFIED:20260209T194743Z
UID:15361-1770717600-1770722100@derbyecenter.tufts.edu
SUMMARY:Fireside Chat With Caleb Dean\, Writer\, Educator\, Small Business Owner & Advisor
DESCRIPTION:Join us in a fireside chat with Caleb Dean\, writer\, educator\, small business owner\, and advisor to talk about the critical role that customer discovery and primary market research plays in design\, small business creation\, organizational transformation and more. \nAbout Caleb Dean \nCaleb has worked in rural economic development and conflict resolution with diverse groups of stakeholders in Western Massachusetts\, Eastern Oregon\, and the interior West. He started and designed a co-working office space in his hometown that’s been in business since 2008. He also runs Cambridge Naturals\, a 48 year old natural products retail business with his wife in Cambridge and Boston which they have helped double in sizxe over the last eight years. He has worked with a multitude of creative\, passionate individuals\, teams\, and groups to drive positive change and increase the value of their endeavors. \nCaleb holds a BS in Environmental Design from UMass Amherst and an MBA from Presidio Graduate School. \nThis is an Inside the Classroom event hosted by Professor Elaine Chen\, who teaches ENT100 Entrepreneurship and Business Planning.
URL:https://derbyecenter.tufts.edu/event/calebdean-pmr/
LOCATION:Nelson 112
CATEGORIES:Speaker Series
ATTACH;FMTTYPE=image/jpeg:https://derbyecenter.tufts.edu/wp-content/uploads/2026/02/2026-02-10-Fireside-chat-with-Caleb-Dean2.jpg
END:VEVENT
END:VCALENDAR