BEGIN:VCALENDAR
VERSION:2.0
PRODID:-//Derby Entrepreneurship Center at Tufts - ECPv6.15.16//NONSGML v1.0//EN
CALSCALE:GREGORIAN
METHOD:PUBLISH
X-ORIGINAL-URL:https://derbyecenter.tufts.edu
X-WR-CALDESC:Events for Derby Entrepreneurship Center at Tufts
REFRESH-INTERVAL;VALUE=DURATION:PT1H
X-Robots-Tag:noindex
X-PUBLISHED-TTL:PT1H
BEGIN:VTIMEZONE
TZID:America/New_York
BEGIN:DAYLIGHT
TZOFFSETFROM:-0500
TZOFFSETTO:-0400
TZNAME:EDT
DTSTART:20230312T070000
END:DAYLIGHT
BEGIN:STANDARD
TZOFFSETFROM:-0400
TZOFFSETTO:-0500
TZNAME:EST
DTSTART:20231105T060000
END:STANDARD
BEGIN:DAYLIGHT
TZOFFSETFROM:-0500
TZOFFSETTO:-0400
TZNAME:EDT
DTSTART:20240310T070000
END:DAYLIGHT
BEGIN:STANDARD
TZOFFSETFROM:-0400
TZOFFSETTO:-0500
TZNAME:EST
DTSTART:20241103T060000
END:STANDARD
BEGIN:DAYLIGHT
TZOFFSETFROM:-0500
TZOFFSETTO:-0400
TZNAME:EDT
DTSTART:20250309T070000
END:DAYLIGHT
BEGIN:STANDARD
TZOFFSETFROM:-0400
TZOFFSETTO:-0500
TZNAME:EST
DTSTART:20251102T060000
END:STANDARD
END:VTIMEZONE
BEGIN:VEVENT
DTSTART;TZID=America/New_York:20240508T180000
DTEND;TZID=America/New_York:20240508T200000
DTSTAMP:20260424T020206
CREATED:20231210T225208Z
LAST-MODIFIED:20240501T221019Z
UID:9159-1715191200-1715198400@derbyecenter.tufts.edu
SUMMARY:Alumni Event: Tufts Entrepreneurial Network Mixer in New York
DESCRIPTION:On Wednesday\, May 8\, the Tufts Entrepreneurial Network and Derby Entrepreneurship Center cordially invite you to a Springtime soiree at the Sentry! Please join us from 6:30-8:30 PM for a cocktail reception on the 18th floor with fellow Jumbos and their guests. \nThis is a great opportunity to reconnect with fellow alums and form new connections as we make our way into the summer season. Member of the Tufts community\, such as as  Kevin Oye\, Executive Director of The Gordon Institute\, and Elaine Chen\, Cummings Family Professor of the Practice of Entrepreneurship & Director at the Derby Entrepreneurship Center\, will be in attendance as well. \nDo not miss this opportunity to attend this gathering at one of New York’s most iconic hotels. Enjoy hors d’oeuvres while you take in uninterrupted views of the Manhattan downtown skyline. We look forward to seeing you there! \nEach ticket is $15\, and each attendee will receive one drink ticket redeemable for a glass of wine or a beer. Hors d’oeuvres will be provided. \n			\n			\n				\n				\n				\n				\n			\n				\n				\n				\n				\n				\n				\n				\n				\n				\n				\n				Many thanks to our Silver level event sponsor\, Valley National Bank!
URL:https://derbyecenter.tufts.edu/event/dec-ten-nymixer24/
LOCATION:The Sentry\, 37 W 24th St 18th floor\, New York\, NY\, 10010
CATEGORIES:TEN Events,Alumni Event
ATTACH;FMTTYPE=image/jpeg:https://derbyecenter.tufts.edu/wp-content/uploads/2023/12/Sentry.jpg
END:VEVENT
BEGIN:VEVENT
DTSTART;TZID=America/New_York:20240518T133000
DTEND;TZID=America/New_York:20240518T144500
DTSTAMP:20260424T020206
CREATED:20240115T183528Z
LAST-MODIFIED:20240115T183533Z
UID:9373-1716039000-1716043500@derbyecenter.tufts.edu
SUMMARY:Save the date! Reunion Weekend Entrepreneurship Panel #1- May 18\, 2024
DESCRIPTION:Calling all Tufts alumni who are returning to campus for the May 2024 Reunion Weekend! Join our all-star Entrepreneurship Panel and hear the stories of fellow alumni who have built successful businesses through an entrepreneurial approach. Details coming soon. \nHosted by the Tufts Office of Alumni Engagement in partnership with the Derby Entrepreneurship Center at Tufts.\n			\n				VISIT TUFTS REUNIONS SITE
URL:https://derbyecenter.tufts.edu/event/reunionpanel1/
LOCATION:MA
CATEGORIES:TEN Events,Alumni Event
ATTACH;FMTTYPE=image/png:https://derbyecenter.tufts.edu/wp-content/uploads/2024/01/Screenshot-2024-01-10-at-10.38.41-PM.png
END:VEVENT
END:VCALENDAR