BEGIN:VCALENDAR
VERSION:2.0
PRODID:-//Derby Entrepreneurship Center at Tufts - ECPv6.15.16//NONSGML v1.0//EN
CALSCALE:GREGORIAN
METHOD:PUBLISH
X-WR-CALNAME:Derby Entrepreneurship Center at Tufts
X-ORIGINAL-URL:https://derbyecenter.tufts.edu
X-WR-CALDESC:Events for Derby Entrepreneurship Center at Tufts
REFRESH-INTERVAL;VALUE=DURATION:PT1H
X-Robots-Tag:noindex
X-PUBLISHED-TTL:PT1H
BEGIN:VTIMEZONE
TZID:America/New_York
BEGIN:DAYLIGHT
TZOFFSETFROM:-0500
TZOFFSETTO:-0400
TZNAME:EDT
DTSTART:20230312T070000
END:DAYLIGHT
BEGIN:STANDARD
TZOFFSETFROM:-0400
TZOFFSETTO:-0500
TZNAME:EST
DTSTART:20231105T060000
END:STANDARD
BEGIN:DAYLIGHT
TZOFFSETFROM:-0500
TZOFFSETTO:-0400
TZNAME:EDT
DTSTART:20240310T070000
END:DAYLIGHT
BEGIN:STANDARD
TZOFFSETFROM:-0400
TZOFFSETTO:-0500
TZNAME:EST
DTSTART:20241103T060000
END:STANDARD
BEGIN:DAYLIGHT
TZOFFSETFROM:-0500
TZOFFSETTO:-0400
TZNAME:EDT
DTSTART:20250309T070000
END:DAYLIGHT
BEGIN:STANDARD
TZOFFSETFROM:-0400
TZOFFSETTO:-0500
TZNAME:EST
DTSTART:20251102T060000
END:STANDARD
END:VTIMEZONE
BEGIN:VEVENT
DTSTART;TZID=America/New_York:20241205T190000
DTEND;TZID=America/New_York:20241205T210000
DTSTAMP:20260419T132148
CREATED:20240917T171815Z
LAST-MODIFIED:20250501T203320Z
UID:12351-1733425200-1733432400@derbyecenter.tufts.edu
SUMMARY:Tufts Entrepreneurial Network Holiday Party at Lamplighter Brewing
DESCRIPTION:Join Derby Entrepreneurship Center and Tufts Entrepreneurial Network for a holiday party at Lamplighter’s Brewers’ Cambridge Crossing Location! \nPlease join us at Lamplighter Brewing’s Cambridge Crossing location (110 N. First St\, 2nd Floor\, Cambridge\, MA 02141) for an evening of mixing\, mingling\, and networking. Spread some holiday cheer with fellow alumni interested in entrepreneurship\, startups\, venture capital\, social impact\, innovation\, and technology over food and drinks. Elaine Chen\, Director of the Derby Entrepreneurship Center (DEC) and Professor of the Practice\, and Carol Denning\, Assistant Director of DEC\, will be there to give us an update as to what’s going on at the Center. \nLike last year\, we’ve reserved the upstairs and each attendee will get 1 drink ticket. Bon Mi will provide catering for the event. Registration is $15 per person and guests are welcome! \nParking at the 222 Jacobs Street Garage (1 minute walk from the brewery) can be validated at Lamplighter for $10. Street parking is available\, but extremely limited. We recommend taking public transportation. The nearest T stop is Lechmere (6-minute walk). \nLooking forward to seeing you there\, and cheers! \nThis event is generously sponsored by Main Street Bank\, a DEC Silver Sponsor for 2024-2025.
URL:https://derbyecenter.tufts.edu/event/tenboston-dec24/
LOCATION:Lamplight Brewing (Cambridge Crossing)\, 10 N First St\, Cambridge\, MA\, 02141\, United States
CATEGORIES:Networking,TEN Events,Alumni Event
ATTACH;FMTTYPE=image/jpeg:https://derbyecenter.tufts.edu/wp-content/uploads/2024/09/lamplighter.jpg
END:VEVENT
END:VCALENDAR