BEGIN:VCALENDAR
VERSION:2.0
PRODID:-//Derby Entrepreneurship Center at Tufts - ECPv6.15.16//NONSGML v1.0//EN
CALSCALE:GREGORIAN
METHOD:PUBLISH
X-WR-CALNAME:Derby Entrepreneurship Center at Tufts
X-ORIGINAL-URL:https://derbyecenter.tufts.edu
X-WR-CALDESC:Events for Derby Entrepreneurship Center at Tufts
REFRESH-INTERVAL;VALUE=DURATION:PT1H
X-Robots-Tag:noindex
X-PUBLISHED-TTL:PT1H
BEGIN:VTIMEZONE
TZID:America/New_York
BEGIN:DAYLIGHT
TZOFFSETFROM:-0500
TZOFFSETTO:-0400
TZNAME:EDT
DTSTART:20220313T070000
END:DAYLIGHT
BEGIN:STANDARD
TZOFFSETFROM:-0400
TZOFFSETTO:-0500
TZNAME:EST
DTSTART:20221106T060000
END:STANDARD
BEGIN:DAYLIGHT
TZOFFSETFROM:-0500
TZOFFSETTO:-0400
TZNAME:EDT
DTSTART:20230312T070000
END:DAYLIGHT
BEGIN:STANDARD
TZOFFSETFROM:-0400
TZOFFSETTO:-0500
TZNAME:EST
DTSTART:20231105T060000
END:STANDARD
BEGIN:DAYLIGHT
TZOFFSETFROM:-0500
TZOFFSETTO:-0400
TZNAME:EDT
DTSTART:20240310T070000
END:DAYLIGHT
BEGIN:STANDARD
TZOFFSETFROM:-0400
TZOFFSETTO:-0500
TZNAME:EST
DTSTART:20241103T060000
END:STANDARD
END:VTIMEZONE
BEGIN:VEVENT
DTSTART;TZID=America/New_York:20231213T183000
DTEND;TZID=America/New_York:20231213T203000
DTSTAMP:20260425T082817
CREATED:20231128T195338Z
LAST-MODIFIED:20231210T224729Z
UID:9078-1702492200-1702499400@derbyecenter.tufts.edu
SUMMARY:Tufts Entrepreneurial Network Holiday Party at Lamplighter Brewing
DESCRIPTION:On Wednesday\, December 13\, please join the Tufts Entrepreneurial Network for a holiday party at Lamplighter Brewing’s Cambridge Crossing location! \nSpread some holiday cheer with fellow alumni interested in entrepreneurship\, startups\, venture capital\, social impact\, innovation\, and technology over food and drinks. Any alumnus interested or curious about these spaces and entrepreneurial thinking is welcome to join. We’ve rented out the entire upstairs taproom. Elaine Chen\, Director of the Derby Entrepreneurship Center (DEC) and Professor of the Practice\, and Carol Denning\, Assistant Director of DEC\, will be there to give us an update as to what’s going on at the Center. \nThe cost to attend is $15 per person and includes 1 drink ticket. Bon Mi will provide catering. \nParking at the 222 Jacobs Street Garage (1 minute walk from the brewery) can be validated at Lamplighter for $10. Street parking is available\, but extremely limited. We recommend taking public transportation. The nearest T stop is Lechmere (6 minute walk). \nLooking forward to seeing you there and cheers!
URL:https://derbyecenter.tufts.edu/event/dec-ten-boston/
LOCATION:Lamplight Brewing (Cambridge Crossing)\, 10 N First St\, Cambridge\, MA\, 02141\, United States
CATEGORIES:TEN Events,Alumni Event
ATTACH;FMTTYPE=image/jpeg:https://derbyecenter.tufts.edu/wp-content/uploads/2023/11/TENEVENTBOS.jpeg
END:VEVENT
END:VCALENDAR