BEGIN:VCALENDAR
VERSION:2.0
PRODID:-//Derby Entrepreneurship Center at Tufts - ECPv6.15.16//NONSGML v1.0//EN
CALSCALE:GREGORIAN
METHOD:PUBLISH
X-WR-CALNAME:Derby Entrepreneurship Center at Tufts
X-ORIGINAL-URL:https://derbyecenter.tufts.edu
X-WR-CALDESC:Events for Derby Entrepreneurship Center at Tufts
REFRESH-INTERVAL;VALUE=DURATION:PT1H
X-Robots-Tag:noindex
X-PUBLISHED-TTL:PT1H
BEGIN:VTIMEZONE
TZID:America/New_York
BEGIN:DAYLIGHT
TZOFFSETFROM:-0500
TZOFFSETTO:-0400
TZNAME:EDT
DTSTART:20230312T070000
END:DAYLIGHT
BEGIN:STANDARD
TZOFFSETFROM:-0400
TZOFFSETTO:-0500
TZNAME:EST
DTSTART:20231105T060000
END:STANDARD
BEGIN:DAYLIGHT
TZOFFSETFROM:-0500
TZOFFSETTO:-0400
TZNAME:EDT
DTSTART:20240310T070000
END:DAYLIGHT
BEGIN:STANDARD
TZOFFSETFROM:-0400
TZOFFSETTO:-0500
TZNAME:EST
DTSTART:20241103T060000
END:STANDARD
BEGIN:DAYLIGHT
TZOFFSETFROM:-0500
TZOFFSETTO:-0400
TZNAME:EDT
DTSTART:20250309T070000
END:DAYLIGHT
BEGIN:STANDARD
TZOFFSETFROM:-0400
TZOFFSETTO:-0500
TZNAME:EST
DTSTART:20251102T060000
END:STANDARD
END:VTIMEZONE
BEGIN:VEVENT
DTSTART;TZID=America/New_York:20240601T140000
DTEND;TZID=America/New_York:20240601T151500
DTSTAMP:20260422T204338
CREATED:20240115T183729Z
LAST-MODIFIED:20240115T183734Z
UID:9380-1717250400-1717254900@derbyecenter.tufts.edu
SUMMARY:Save the date! Reunion Weekend Entrepreneurship Panel #2 - June 1\, 2024
DESCRIPTION:Calling all Tufts alumni who are returning to campus for the May 2024 Reunion Weekend! Join our all-star Entrepreneurship Panel and hear the stories of fellow alumni who have built successful businesses through an entrepreneurial approach. Details coming soon. \nHosted by the Tufts Office of Alumni Engagement in partnership with the Derby Entrepreneurship Center at Tufts. \n			\n				VISIT TUFTS REUNIONS SITE
URL:https://derbyecenter.tufts.edu/event/reunionpanel2/
LOCATION:MA
CATEGORIES:TEN Events,Alumni Event
ATTACH;FMTTYPE=image/png:https://derbyecenter.tufts.edu/wp-content/uploads/2024/01/Screenshot-2024-01-10-at-10.38.41-PM.png
END:VEVENT
END:VCALENDAR