BEGIN:VCALENDAR
VERSION:2.0
PRODID:-//Derby Entrepreneurship Center at Tufts - ECPv6.15.16//NONSGML v1.0//EN
CALSCALE:GREGORIAN
METHOD:PUBLISH
X-WR-CALNAME:Derby Entrepreneurship Center at Tufts
X-ORIGINAL-URL:https://derbyecenter.tufts.edu
X-WR-CALDESC:Events for Derby Entrepreneurship Center at Tufts
REFRESH-INTERVAL;VALUE=DURATION:PT1H
X-Robots-Tag:noindex
X-PUBLISHED-TTL:PT1H
BEGIN:VTIMEZONE
TZID:America/New_York
BEGIN:DAYLIGHT
TZOFFSETFROM:-0500
TZOFFSETTO:-0400
TZNAME:EDT
DTSTART:20230312T070000
END:DAYLIGHT
BEGIN:STANDARD
TZOFFSETFROM:-0400
TZOFFSETTO:-0500
TZNAME:EST
DTSTART:20231105T060000
END:STANDARD
BEGIN:DAYLIGHT
TZOFFSETFROM:-0500
TZOFFSETTO:-0400
TZNAME:EDT
DTSTART:20240310T070000
END:DAYLIGHT
BEGIN:STANDARD
TZOFFSETFROM:-0400
TZOFFSETTO:-0500
TZNAME:EST
DTSTART:20241103T060000
END:STANDARD
BEGIN:DAYLIGHT
TZOFFSETFROM:-0500
TZOFFSETTO:-0400
TZNAME:EDT
DTSTART:20250309T070000
END:DAYLIGHT
BEGIN:STANDARD
TZOFFSETFROM:-0400
TZOFFSETTO:-0500
TZNAME:EST
DTSTART:20251102T060000
END:STANDARD
END:VTIMEZONE
BEGIN:VEVENT
DTSTART;TZID=America/New_York:20240205T120000
DTEND;TZID=America/New_York:20240205T130000
DTSTAMP:20260422T110505
CREATED:20240122T115829Z
LAST-MODIFIED:20240126T010129Z
UID:9558-1707134400-1707138000@derbyecenter.tufts.edu
SUMMARY:Medford - $100k Info Session and Application Clinic
DESCRIPTION:Are you an innovative thinker working on a new venture? The Derby Entrepreneurship Center welcomes you to an info session and application clinic for the Tufts $100k New Ventures Competition. Learn how DEC can support you through coaching\, an online learning center\, pitching clinics\, and advice on how to apply. Winners are collectively awarded over $115k of prize money and over $100k of in-kind services. \nThe pizza is on us! Learn more about DEC and the $100k! \nIf you are joining via Zoom\, here is the link.\nhttps://bit.ly/dec-eventzoom
URL:https://derbyecenter.tufts.edu/event/medford-100kinfosession2024/
LOCATION:Tufts Venture Lab (JCC301)\, 177 College Ave\, Medford\, MA\, 02155\, United States
CATEGORIES:Information Sesssion,Tufts $100k New Ventures Competition,Pitch Competition
ATTACH;FMTTYPE=image/jpeg:https://derbyecenter.tufts.edu/wp-content/uploads/2024/01/100kinfosessions-scaled.jpg
END:VEVENT
BEGIN:VEVENT
DTSTART;TZID=America/New_York:20240205T120000
DTEND;TZID=America/New_York:20240205T130000
DTSTAMP:20260422T110505
CREATED:20240202T225159Z
LAST-MODIFIED:20240206T131558Z
UID:9869-1707134400-1707138000@derbyecenter.tufts.edu
SUMMARY:Tufts University School of Medicine - Tufts $100k Infosession and Application Clinic
DESCRIPTION:Are you an innovative thinker working on a new venture? The Derby Entrepreneurship Center welcomes you to an info session and application clinic for the Tufts $100k New Ventures Competition. Learn how DEC can support you through coaching\, an online learning center\, pitching clinics\, and advice on how to apply. Winners are collectively awarded over $115k of prize money and over $100k of in-kind services. \nNo registration is required. The pizza is on us! Learn more about DEC and the $100k! \nIf you are joining via Zoom\, here is the link.\nhttps://bit.ly/dec-eventzoom
URL:https://derbyecenter.tufts.edu/event/tusm-infosession-2024/
LOCATION:MA
CATEGORIES:Information Sesssion,Tufts $100k New Ventures Competition,Pitch Competition
ATTACH;FMTTYPE=image/jpeg:https://derbyecenter.tufts.edu/wp-content/uploads/2024/01/100kinfosessions-scaled.jpg
END:VEVENT
BEGIN:VEVENT
DTSTART;TZID=America/New_York:20240206T124500
DTEND;TZID=America/New_York:20240206T133000
DTSTAMP:20260422T110505
CREATED:20240111T205205Z
LAST-MODIFIED:20240126T010159Z
UID:9360-1707223500-1707226200@derbyecenter.tufts.edu
SUMMARY:SMFA - $100k Info Session and Application Clinic
DESCRIPTION:Are you a SMFA student and innovative thinker working on a new venture? The Derby Entrepreneurship Center welcomes you to an info session and application clinic for the Tufts $100k New Ventures Competition. Learn how DEC can support you through coaching\, an online learning center\, pitching clinics\, and advice on how to apply. Winners are collectively awarded over $115k of prize money and over $100k of in-kind services. \nThe pizza is on us! Learn more about DEC and the $100k! \nIf you are joining via Zoom\, here is the link.\nhttps://bit.ly/dec-eventzoom
URL:https://derbyecenter.tufts.edu/event/smfa-100k-infosessions2024/
LOCATION:School of the Museum of Fine Arts\, 230 Fenway\, B311\,\, Boston\, MA\, 02115\, United States
CATEGORIES:Information Sesssion,Tufts $100k New Ventures Competition,Pitch Competition
ATTACH;FMTTYPE=image/jpeg:https://derbyecenter.tufts.edu/wp-content/uploads/2024/01/100kinfosessions-scaled.jpg
END:VEVENT
BEGIN:VEVENT
DTSTART;TZID=America/New_York:20240206T150000
DTEND;TZID=America/New_York:20240206T160000
DTSTAMP:20260422T110505
CREATED:20240123T032150Z
LAST-MODIFIED:20240201T171908Z
UID:9577-1707231600-1707235200@derbyecenter.tufts.edu
SUMMARY:Friedman - $100k Info Session and Application Clinic
DESCRIPTION:Are you an innovative thinker working on a new venture? The Derby Entrepreneurship Center welcomes you to an info session and application clinic for the Tufts $100k New Ventures Competition. Learn how DEC can support you through coaching\, an online learning center\, pitching clinics\, and advice on how to apply. Winners are collectively awarded $115k of prize money and over $100k of in-kind services. \nThis info session is in Room 118 is 150 Harrison Ave\, Boston\, MA 02111. \nIf you are joining via Zoom\, here is the link.\nhttps://bit.ly/dec-eventzoom
URL:https://derbyecenter.tufts.edu/event/friedman-100k24/
LOCATION:Room 118\, 150 Harrison Avenue\, Room 118\, 150 Harrison Avenue\, Boston\, 02111\, United States
CATEGORIES:Information Sesssion,Tufts $100k New Ventures Competition,Pitch Competition
ATTACH;FMTTYPE=image/jpeg:https://derbyecenter.tufts.edu/wp-content/uploads/2024/01/100kinfosessions-scaled.jpg
END:VEVENT
BEGIN:VEVENT
DTSTART;TZID=America/New_York:20240207T120000
DTEND;TZID=America/New_York:20240207T130000
DTSTAMP:20260422T110505
CREATED:20240111T210127Z
LAST-MODIFIED:20240126T010344Z
UID:9364-1707307200-1707310800@derbyecenter.tufts.edu
SUMMARY:Tufts School of Dental Medicine - $100k Info Session and Application Clinic
DESCRIPTION:Are you an Tufts School of Dental Medicine student and innovative thinker working on a new venture? The Derby Entrepreneurship Center welcomes you to an info session and application clinic for the Tufts $100k New Ventures Competition. Learn how DEC can support you through coaching\, an online learning center\, pitching clinics\, and advice on how to apply. Winners are collectively awarded over $115k of prize money and over $100k of in-kind services. \nThe pizza is on us! Learn more about DEC and the $100k! \nIf you are joining via Zoom\, here is the link.\nhttps://bit.ly/dec-eventzoom
URL:https://derbyecenter.tufts.edu/event/tusdm-100kinfosessions2024/
LOCATION:Tufts University School of Dental Medicine\, Alumni Lounge\, 1514\, 1 Kneeland Street\,\, Boston\, MA\, 02111\, United States
CATEGORIES:Information Sesssion,Tufts $100k New Ventures Competition,Pitch Competition
ATTACH;FMTTYPE=image/jpeg:https://derbyecenter.tufts.edu/wp-content/uploads/2024/01/100kinfosessions-scaled.jpg
END:VEVENT
BEGIN:VEVENT
DTSTART;TZID=America/New_York:20240208T120000
DTEND;TZID=America/New_York:20240208T130000
DTSTAMP:20260422T110505
CREATED:20240118T190909Z
LAST-MODIFIED:20240126T010713Z
UID:9470-1707393600-1707397200@derbyecenter.tufts.edu
SUMMARY:Cummings School - $100k Info Session and Application Clinic
DESCRIPTION:Are you an Cummings School of Veterinary Medicine student and innovative thinker working on a new venture? The Derby Entrepreneurship Center welcomes you to an info session and application clinic for the Tufts $100k New Ventures Competition. Learn how DEC can support you through coaching\, an online learning center\, pitching clinics\, and advice on how to apply. Winners are collectively awarded over $115k of prize money and over $100k of in-kind services. \nThe pizza is on us! Learn more about DEC and the $100k! \nIf you are joining via Zoom\, here is the link.https://bit.ly/dec-eventzoom
URL:https://derbyecenter.tufts.edu/event/cummings-school-100k-infosessions2024/
LOCATION:AVA Lecture Hall\, Cummings School for Veterinarian Medicine\, 5 Jumbo's Path\, North Grafton\, MA\, 01536\, United States
CATEGORIES:Information Sesssion,Tufts $100k New Ventures Competition
ATTACH;FMTTYPE=image/jpeg:https://derbyecenter.tufts.edu/wp-content/uploads/2024/01/100kinfosessions-scaled.jpg
END:VEVENT
BEGIN:VEVENT
DTSTART;TZID=America/New_York:20240208T180000
DTEND;TZID=America/New_York:20240208T190000
DTSTAMP:20260422T110505
CREATED:20240118T182656Z
LAST-MODIFIED:20240207T235025Z
UID:9451-1707415200-1707418800@derbyecenter.tufts.edu
SUMMARY:Pitch to Match @ Tufts - pitch an idea or skill to form teams
DESCRIPTION:Do you have an idea and need to recruit team members? Or do you have interests and skills and are looking for a team to join? Come meet people at our Pitch to Match event and find team members to work on projects together – potentially applying to the Tufts $100k New Ventures Competition as a team. \nThis event will be held at the Venture Lab\, Room 301\, Joyce Cummings Center\, 177 College Avenue\, Medford\, MA. \nThe pizza is on us! Hope to see you soon! \nIf you are joining via Zoom\, here is the link.\nhttps://bit.ly/dec-eventzoom
URL:https://derbyecenter.tufts.edu/event/pitch2match-feb24/
LOCATION:Tufts Venture Lab (JCC301)\, 177 College Ave\, Medford\, MA\, 02155\, United States
CATEGORIES:Networking,Tufts $100k New Ventures Competition
ATTACH;FMTTYPE=image/jpeg:https://derbyecenter.tufts.edu/wp-content/uploads/2024/01/pitch2match-feb24-SQUARE-v2.jpg
END:VEVENT
BEGIN:VEVENT
DTSTART;TZID=America/New_York:20240223T090000
DTEND;TZID=America/New_York:20240225T160000
DTSTAMP:20260422T110505
CREATED:20240219T215733Z
LAST-MODIFIED:20240219T215737Z
UID:10006-1708678800-1708876800@derbyecenter.tufts.edu
SUMMARY:Student Event: Producthon
DESCRIPTION:Producthon is a weekend-long design challenge where participants will design an app which solves an important problem in a given space. 36 hours of building a product from 0 to 1. Open to college students in Boston. \nIn the past\, it has only been open to Tufts students. But this year\, we’re opening up to all enrolled college students who study in Boston! \nHosted by Product Studio\, a Tufts University Student Organization
URL:https://derbyecenter.tufts.edu/event/producthon24/
LOCATION:Tufts University
CATEGORIES:Tufts $100k New Ventures Competition,Ecosystem Event
ATTACH;FMTTYPE=image/png:https://derbyecenter.tufts.edu/wp-content/uploads/2024/02/Screenshot-2024-02-19-at-4.57.15-PM.png
END:VEVENT
END:VCALENDAR