BEGIN:VCALENDAR
VERSION:2.0
PRODID:-//Derby Entrepreneurship Center at Tufts - ECPv6.15.16//NONSGML v1.0//EN
CALSCALE:GREGORIAN
METHOD:PUBLISH
X-ORIGINAL-URL:https://derbyecenter.tufts.edu
X-WR-CALDESC:Events for Derby Entrepreneurship Center at Tufts
REFRESH-INTERVAL;VALUE=DURATION:PT1H
X-Robots-Tag:noindex
X-PUBLISHED-TTL:PT1H
BEGIN:VTIMEZONE
TZID:America/New_York
BEGIN:DAYLIGHT
TZOFFSETFROM:-0500
TZOFFSETTO:-0400
TZNAME:EDT
DTSTART:20210314T070000
END:DAYLIGHT
BEGIN:STANDARD
TZOFFSETFROM:-0400
TZOFFSETTO:-0500
TZNAME:EST
DTSTART:20211107T060000
END:STANDARD
BEGIN:DAYLIGHT
TZOFFSETFROM:-0500
TZOFFSETTO:-0400
TZNAME:EDT
DTSTART:20220313T070000
END:DAYLIGHT
BEGIN:STANDARD
TZOFFSETFROM:-0400
TZOFFSETTO:-0500
TZNAME:EST
DTSTART:20221106T060000
END:STANDARD
BEGIN:DAYLIGHT
TZOFFSETFROM:-0500
TZOFFSETTO:-0400
TZNAME:EDT
DTSTART:20230312T070000
END:DAYLIGHT
BEGIN:STANDARD
TZOFFSETFROM:-0400
TZOFFSETTO:-0500
TZNAME:EST
DTSTART:20231105T060000
END:STANDARD
END:VTIMEZONE
BEGIN:VEVENT
DTSTART;TZID=America/New_York:20220706T100000
DTEND;TZID=America/New_York:20220706T113000
DTSTAMP:20260424T202320
CREATED:20220626T184141Z
LAST-MODIFIED:20220707T022931Z
UID:2406-1657101600-1657107000@derbyecenter.tufts.edu
SUMMARY:Entrepreneurial Workshop: Pitch Perfect (Recording available)
DESCRIPTION:Professors Avital Shira and Wendy Swart Grossman will guide you through an interactive workshop on Pitching. Through this workshop\, hone your presentation objective\, build tools to ensure you have clear\, concise\, and powerful storytelling rhetoric\, develop your vocal and physical presentation skills\, and refine your ability to analyze what makes a strong pitch.  All participants will have the opportunity to share their pitch presentations and receive constructive feedback. \nThis session is led by Prof. Avital Shira and Prof. Wendy Swart Grossman\, who are both Lecturers at the Derby Entrepreneurship Center. \nHosted by the Derby Entrepreneurship Center (DEC). \nThis Entrepreneurial Workshop Series is part of the Tufts Venture Accelerator. Open to Full-Time Tufts Venture Accelerator Cohort Members only. \n  \nVIEW SLIDES\nWATCH RECORDING
URL:https://derbyecenter.tufts.edu/event/pitching/
LOCATION:Joyce Cummings Center\, 177 College Ave\, Medford\, 02155\, United States
CATEGORIES:Workshops,TVA22
ATTACH;FMTTYPE=image/jpeg:https://derbyecenter.tufts.edu/wp-content/uploads/2022/06/Pitch-Perfect-1.jpg
END:VEVENT
BEGIN:VEVENT
DTSTART;TZID=America/New_York:20220726T133000
DTEND;TZID=America/New_York:20220726T150000
DTSTAMP:20260424T202320
CREATED:20220707T020145Z
LAST-MODIFIED:20220707T172926Z
UID:2671-1658842200-1658847600@derbyecenter.tufts.edu
SUMMARY:Entrepreneurial Workshop: Digital Marketing (TVA 2022 full time cohort only)
DESCRIPTION:Join Professor Will Trevor in this interactive workshop and learn practical techniques for digital marketing. \nHosted by the Derby Entrepreneurship Center (DEC). \nThis Entrepreneurial Workshop Series is part of the Tufts Venture Accelerator. Open to Full-Time Tufts Venture Accelerator Cohort Members only.
URL:https://derbyecenter.tufts.edu/event/digitalmarketing/
LOCATION:Joyce Cummings Center\, 177 College Ave\, Medford\, 02155\, United States
CATEGORIES:Workshops,TVA22
ATTACH;FMTTYPE=image/jpeg:https://derbyecenter.tufts.edu/wp-content/uploads/2022/07/digitalmarketing-scaled.jpg
END:VEVENT
BEGIN:VEVENT
DTSTART;TZID=America/New_York:20220727T100000
DTEND;TZID=America/New_York:20220727T113000
DTSTAMP:20260424T202320
CREATED:20220722T163555Z
LAST-MODIFIED:20220722T163842Z
UID:2965-1658916000-1658921400@derbyecenter.tufts.edu
SUMMARY:Entrepreneurial Workshop: Finance and Operations (TVA 2022 full time cohort only)
DESCRIPTION:Simone Castillo\, Founder and President of Velvet Canary Advisors\, will speak to our accelerator teams about finance and operations for startups and small businesses. \nHosted by the Derby Entrepreneurship Center (DEC). \nThis Entrepreneurial Workshop Series is part of the Tufts Venture Accelerator. Open to Full-Time Tufts Venture Accelerator Cohort Members only.
URL:https://derbyecenter.tufts.edu/event/finance-ops/
LOCATION:Joyce Cummings Center\, 177 College Ave\, Medford\, 02155\, United States
CATEGORIES:Workshops,TVA22
ATTACH;FMTTYPE=image/jpeg:https://derbyecenter.tufts.edu/wp-content/uploads/2022/07/Finance-and-ops.jpg
END:VEVENT
END:VCALENDAR