BEGIN:VCALENDAR
VERSION:2.0
PRODID:-//Derby Entrepreneurship Center at Tufts - ECPv6.15.16//NONSGML v1.0//EN
CALSCALE:GREGORIAN
METHOD:PUBLISH
X-WR-CALNAME:Derby Entrepreneurship Center at Tufts
X-ORIGINAL-URL:https://derbyecenter.tufts.edu
X-WR-CALDESC:Events for Derby Entrepreneurship Center at Tufts
REFRESH-INTERVAL;VALUE=DURATION:PT1H
X-Robots-Tag:noindex
X-PUBLISHED-TTL:PT1H
BEGIN:VTIMEZONE
TZID:America/New_York
BEGIN:DAYLIGHT
TZOFFSETFROM:-0500
TZOFFSETTO:-0400
TZNAME:EDT
DTSTART:20210314T070000
END:DAYLIGHT
BEGIN:STANDARD
TZOFFSETFROM:-0400
TZOFFSETTO:-0500
TZNAME:EST
DTSTART:20211107T060000
END:STANDARD
BEGIN:DAYLIGHT
TZOFFSETFROM:-0500
TZOFFSETTO:-0400
TZNAME:EDT
DTSTART:20220313T070000
END:DAYLIGHT
BEGIN:STANDARD
TZOFFSETFROM:-0400
TZOFFSETTO:-0500
TZNAME:EST
DTSTART:20221106T060000
END:STANDARD
BEGIN:DAYLIGHT
TZOFFSETFROM:-0500
TZOFFSETTO:-0400
TZNAME:EDT
DTSTART:20230312T070000
END:DAYLIGHT
BEGIN:STANDARD
TZOFFSETFROM:-0400
TZOFFSETTO:-0500
TZNAME:EST
DTSTART:20231105T060000
END:STANDARD
END:VTIMEZONE
BEGIN:VEVENT
DTSTART;TZID=America/New_York:20220818T100000
DTEND;TZID=America/New_York:20220818T120000
DTSTAMP:20260423T184305
CREATED:20220707T202901Z
LAST-MODIFIED:20220816T201233Z
UID:2685-1660816800-1660824000@derbyecenter.tufts.edu
SUMMARY:Tufts Venture Accelerator 2022 Demo Day
DESCRIPTION:Join us over Zoom for Demo Day and learn how the Tufts Venture Accelerator teams are making a difference through their new ventures! \nThis event is hosted by the Derby Entrepreneurship Center (DEC) at Tufts University. \n\nREGISTER
URL:https://derbyecenter.tufts.edu/event/tva22-demoday/
LOCATION:Joyce Cummings Center\, 177 College Ave\, Medford\, 02155\, United States
CATEGORIES:TVA22
ATTACH;FMTTYPE=image/jpeg:https://derbyecenter.tufts.edu/wp-content/uploads/2022/06/TVA22-inpersoncohort-scaled.jpg
END:VEVENT
BEGIN:VEVENT
DTSTART;TZID=America/New_York:20220818T170000
DTEND;TZID=America/New_York:20220818T190000
DTSTAMP:20260423T184305
CREATED:20220606T035659Z
LAST-MODIFIED:20220801T205057Z
UID:1640-1660842000-1660849200@derbyecenter.tufts.edu
SUMMARY:Tufts Venture Accelerator - Celebration of Entrepreneurship
DESCRIPTION:Let’s celebrate the end of an entrepreneurial summer with the Tufts Venture Accelerator! Hosted by the Derby Entrepreneurship Center (DEC)\, all venture accelerator participants and Tufts alumni are welcome to join us at Elm Street Taproom in Somerville near Davis Square for an evening of networking and celebration of the Tufts Entrepreneurship Spirit!  \nMeet fellow venture accelerator teams and Tufts alumni. Don’t miss this opportunity to celebrate with friends and make new acquaintances! \n 
URL:https://derbyecenter.tufts.edu/event/tva22-coe/
LOCATION:Elm Street Taproom\, 256 Elm Street\, Somerville\, 02144
CATEGORIES:Networking,TEN Events,TVA22
ATTACH;FMTTYPE=image/jpeg:https://derbyecenter.tufts.edu/wp-content/uploads/2022/06/PXL_20220525_014234102-scaled.jpg
END:VEVENT
END:VCALENDAR