BEGIN:VCALENDAR
VERSION:2.0
PRODID:-//Derby Entrepreneurship Center at Tufts - ECPv6.15.16//NONSGML v1.0//EN
CALSCALE:GREGORIAN
METHOD:PUBLISH
X-ORIGINAL-URL:https://derbyecenter.tufts.edu
X-WR-CALDESC:Events for Derby Entrepreneurship Center at Tufts
REFRESH-INTERVAL;VALUE=DURATION:PT1H
X-Robots-Tag:noindex
X-PUBLISHED-TTL:PT1H
BEGIN:VTIMEZONE
TZID:America/New_York
BEGIN:DAYLIGHT
TZOFFSETFROM:-0500
TZOFFSETTO:-0400
TZNAME:EDT
DTSTART:20210314T070000
END:DAYLIGHT
BEGIN:STANDARD
TZOFFSETFROM:-0400
TZOFFSETTO:-0500
TZNAME:EST
DTSTART:20211107T060000
END:STANDARD
BEGIN:DAYLIGHT
TZOFFSETFROM:-0500
TZOFFSETTO:-0400
TZNAME:EDT
DTSTART:20220313T070000
END:DAYLIGHT
BEGIN:STANDARD
TZOFFSETFROM:-0400
TZOFFSETTO:-0500
TZNAME:EST
DTSTART:20221106T060000
END:STANDARD
BEGIN:DAYLIGHT
TZOFFSETFROM:-0500
TZOFFSETTO:-0400
TZNAME:EDT
DTSTART:20230312T070000
END:DAYLIGHT
BEGIN:STANDARD
TZOFFSETFROM:-0400
TZOFFSETTO:-0500
TZNAME:EST
DTSTART:20231105T060000
END:STANDARD
END:VTIMEZONE
BEGIN:VEVENT
DTSTART;TZID=America/New_York:20220623T093000
DTEND;TZID=America/New_York:20220623T110000
DTSTAMP:20260425T140219
CREATED:20220614T000129Z
LAST-MODIFIED:20220626T194647Z
UID:2123-1655976600-1655982000@derbyecenter.tufts.edu
SUMMARY:Entrepreneurial Workshop: Primary Market Research (Recording available)
DESCRIPTION:In this workshop on primary market research (PMR)\, we will provide a brief overview of the full range of qualitative and quantitative research techniques for entrepreneurs and innovators to build knowledge about their target customer. We will do a skills clinic on two techniques: detailed interviews and landing page tests.  We will also briefly cover cold emailing and networking to get research subjects. \nThis session is led by Prof. Elaine Chen\, Director of the Derby Entrepreneurship Center. \nHosted by the Derby Entrepreneurship Center (DEC). \nThis Entrepreneurial Workshop Series is part of the Tufts Venture Accelerator. Full time accelerator cohort members will be in-person – everyone else is welcome to join by Zoom. \n\nREVIEW SLIDES\nVIEW RECORDING
URL:https://derbyecenter.tufts.edu/event/workshop-pmr/
LOCATION:Joyce Cummings Center\, 177 College Ave\, Medford\, 02155\, United States
CATEGORIES:Workshops,TVA22
ATTACH;FMTTYPE=image/jpeg:https://derbyecenter.tufts.edu/wp-content/uploads/2022/06/2022-06-23-PMR.jpg
END:VEVENT
END:VCALENDAR