BEGIN:VCALENDAR
VERSION:2.0
PRODID:-//Derby Entrepreneurship Center at Tufts - ECPv6.15.16//NONSGML v1.0//EN
CALSCALE:GREGORIAN
METHOD:PUBLISH
X-WR-CALNAME:Derby Entrepreneurship Center at Tufts
X-ORIGINAL-URL:https://derbyecenter.tufts.edu
X-WR-CALDESC:Events for Derby Entrepreneurship Center at Tufts
REFRESH-INTERVAL;VALUE=DURATION:PT1H
X-Robots-Tag:noindex
X-PUBLISHED-TTL:PT1H
BEGIN:VTIMEZONE
TZID:America/New_York
BEGIN:DAYLIGHT
TZOFFSETFROM:-0500
TZOFFSETTO:-0400
TZNAME:EDT
DTSTART:20220313T070000
END:DAYLIGHT
BEGIN:STANDARD
TZOFFSETFROM:-0400
TZOFFSETTO:-0500
TZNAME:EST
DTSTART:20221106T060000
END:STANDARD
BEGIN:DAYLIGHT
TZOFFSETFROM:-0500
TZOFFSETTO:-0400
TZNAME:EDT
DTSTART:20230312T070000
END:DAYLIGHT
BEGIN:STANDARD
TZOFFSETFROM:-0400
TZOFFSETTO:-0500
TZNAME:EST
DTSTART:20231105T060000
END:STANDARD
BEGIN:DAYLIGHT
TZOFFSETFROM:-0500
TZOFFSETTO:-0400
TZNAME:EDT
DTSTART:20240310T070000
END:DAYLIGHT
BEGIN:STANDARD
TZOFFSETFROM:-0400
TZOFFSETTO:-0500
TZNAME:EST
DTSTART:20241103T060000
END:STANDARD
END:VTIMEZONE
BEGIN:VEVENT
DTSTART;TZID=America/New_York:20231010T170000
DTEND;TZID=America/New_York:20231010T190000
DTSTAMP:20260423T172823
CREATED:20231003T200726Z
LAST-MODIFIED:20231004T143703Z
UID:8700-1696957200-1696964400@derbyecenter.tufts.edu
SUMMARY:How to Deliver the Perfect Pitch!
DESCRIPTION:Join this interactive clinic and learn tips for turning your ideas into the perfect pitch! Led by DEC Entrepreneurs-in-Residence Cody Damon and Marcus Johnson-Smith
URL:https://derbyecenter.tufts.edu/event/how-to-deliver-the-perfect-pitch/
LOCATION:Tufts Venture Lab (JCC301)\, 177 College Ave\, Medford\, MA\, 02155\, United States
CATEGORIES:Workshops
ATTACH;FMTTYPE=image/jpeg:https://derbyecenter.tufts.edu/wp-content/uploads/2023/10/Pitch-clinic-sq-1920x1920-1.jpg
END:VEVENT
BEGIN:VEVENT
DTSTART;TZID=America/New_York:20231011T173000
DTEND;TZID=America/New_York:20231011T193000
DTSTAMP:20260423T172823
CREATED:20231004T191008Z
LAST-MODIFIED:20231005T004455Z
UID:8703-1697045400-1697052600@derbyecenter.tufts.edu
SUMMARY:Fletcher D-Prize Ideation and Pitch to Match (In person/hybrid)
DESCRIPTION:Join us for a high-energy Idea Pitch Session for the Fletcher D-Prize! We’re inviting you to share your nascent ideas\, no matter how early in development\, as we embark on an exciting journey towards discovery. Mark your calendar for November 14th\, the deadline to apply\, and let’s kickstart this incredible adventure! \n If you have an idea\, pitch it! Tell us what you are thinking about\, what kind of resources\, including team members and their skills you are looking for\, and make an ask. \n You will have up to 1 minute to pitch your idea. No slides! Be clear with your ask! \n You will get live feedback from Marilyn Davison\, Entrepreneurship Coach in Residence\, Will Snider\, Judge in the D-Prize as well as from your peers in the room. \n If you don’t have an idea but want to join a team\, come prepared to talk about how you could contribute to a team. \n Tables will be marked with the D-Prize Challenge areas: Agriculture\, Clean Water\, Energy\, Education\, Health Access\, Livelihoods\, and Public Service. \nElaine Chen\, Director of the Derby Entrepreneurship Center will be on hand for support. The Tufts Ideas Competition which runs through Oct 21 at 11:59 PM EST is also a great way to test out your ideas. For more information\, visit https://go.tufts.edu/ideas \nEnjoy pizza and sit with people who are interested in the same topics. If you are not sure about participating\, please come anyway and share your curiosity! \n\nThis event will be held in-person / hybrid.\n\n\nThis event is hosted by the Fletcher D-Prize Team in collaboration with the Derby Entrepreneurship Center at Tufts.
URL:https://derbyecenter.tufts.edu/event/dprizeideation/
LOCATION:Cabot 702\, 170 Packard Ave\, Medford
CATEGORIES:Networking,Workshops
ATTACH;FMTTYPE=image/png:https://derbyecenter.tufts.edu/wp-content/uploads/2023/10/dprize-ideation.png
END:VEVENT
END:VCALENDAR