BEGIN:VCALENDAR
VERSION:2.0
PRODID:-//Derby Entrepreneurship Center at Tufts - ECPv6.15.16//NONSGML v1.0//EN
CALSCALE:GREGORIAN
METHOD:PUBLISH
X-ORIGINAL-URL:https://derbyecenter.tufts.edu
X-WR-CALDESC:Events for Derby Entrepreneurship Center at Tufts
REFRESH-INTERVAL;VALUE=DURATION:PT1H
X-Robots-Tag:noindex
X-PUBLISHED-TTL:PT1H
BEGIN:VTIMEZONE
TZID:America/New_York
BEGIN:DAYLIGHT
TZOFFSETFROM:-0500
TZOFFSETTO:-0400
TZNAME:EDT
DTSTART:20220313T070000
END:DAYLIGHT
BEGIN:STANDARD
TZOFFSETFROM:-0400
TZOFFSETTO:-0500
TZNAME:EST
DTSTART:20221106T060000
END:STANDARD
BEGIN:DAYLIGHT
TZOFFSETFROM:-0500
TZOFFSETTO:-0400
TZNAME:EDT
DTSTART:20230312T070000
END:DAYLIGHT
BEGIN:STANDARD
TZOFFSETFROM:-0400
TZOFFSETTO:-0500
TZNAME:EST
DTSTART:20231105T060000
END:STANDARD
BEGIN:DAYLIGHT
TZOFFSETFROM:-0500
TZOFFSETTO:-0400
TZNAME:EDT
DTSTART:20240310T070000
END:DAYLIGHT
BEGIN:STANDARD
TZOFFSETFROM:-0400
TZOFFSETTO:-0500
TZNAME:EST
DTSTART:20241103T060000
END:STANDARD
END:VTIMEZONE
BEGIN:VEVENT
DTSTART;TZID=America/New_York:20231201T153000
DTEND;TZID=America/New_York:20231201T170000
DTSTAMP:20260422T012553
CREATED:20231128T201751Z
LAST-MODIFIED:20231128T202651Z
UID:9083-1701444600-1701450000@derbyecenter.tufts.edu
SUMMARY:Student Event: Professor's Panel by Chi-O & The Women's Network
DESCRIPTION:Chi-O and The Women’s Network is hosting the Professor’s Panel with a group of female-identifying Tufts professors from various disciplines. Featured professors include: \n\nProfessor Elaine Chen (Entrepreneurship)\nProfessor Margaret McMillan (Economics) \nProfessor Kelly Greenhill (Political Science)\nProfessor Deborah SchildKraut (Political Science) \n\nThis event would be perfect for students to gain insights into world of academia and the professors’ individual career journeys. Join us to learn more about how these successful professors shape the future of women in their respective fields! \nNo registration necessary. Food will be served. See you there!
URL:https://derbyecenter.tufts.edu/event/profpanel-chi-o-womensnetwork/
LOCATION:Cabot\, ASEAN Auditorium
CATEGORIES:Networking,Workshops
ATTACH;FMTTYPE=image/png:https://derbyecenter.tufts.edu/wp-content/uploads/2023/11/womennetwork.png
END:VEVENT
END:VCALENDAR