BEGIN:VCALENDAR
VERSION:2.0
PRODID:-//Derby Entrepreneurship Center at Tufts - ECPv6.15.16//NONSGML v1.0//EN
CALSCALE:GREGORIAN
METHOD:PUBLISH
X-ORIGINAL-URL:https://derbyecenter.tufts.edu
X-WR-CALDESC:Events for Derby Entrepreneurship Center at Tufts
REFRESH-INTERVAL;VALUE=DURATION:PT1H
X-Robots-Tag:noindex
X-PUBLISHED-TTL:PT1H
BEGIN:VTIMEZONE
TZID:America/New_York
BEGIN:DAYLIGHT
TZOFFSETFROM:-0500
TZOFFSETTO:-0400
TZNAME:EDT
DTSTART:20230312T070000
END:DAYLIGHT
BEGIN:STANDARD
TZOFFSETFROM:-0400
TZOFFSETTO:-0500
TZNAME:EST
DTSTART:20231105T060000
END:STANDARD
BEGIN:DAYLIGHT
TZOFFSETFROM:-0500
TZOFFSETTO:-0400
TZNAME:EDT
DTSTART:20240310T070000
END:DAYLIGHT
BEGIN:STANDARD
TZOFFSETFROM:-0400
TZOFFSETTO:-0500
TZNAME:EST
DTSTART:20241103T060000
END:STANDARD
BEGIN:DAYLIGHT
TZOFFSETFROM:-0500
TZOFFSETTO:-0400
TZNAME:EDT
DTSTART:20250309T070000
END:DAYLIGHT
BEGIN:STANDARD
TZOFFSETFROM:-0400
TZOFFSETTO:-0500
TZNAME:EST
DTSTART:20251102T060000
END:STANDARD
END:VTIMEZONE
BEGIN:VEVENT
DTSTART;TZID=America/New_York:20240210T130000
DTEND;TZID=America/New_York:20240210T170000
DTSTAMP:20260421T234714
CREATED:20240118T190115Z
LAST-MODIFIED:20240201T213013Z
UID:9462-1707570000-1707584400@derbyecenter.tufts.edu
SUMMARY:First Year Engineering Design Challenge - Chain Reaction
DESCRIPTION:Calling first year engineering students at Tufts: Join us in making a giant Rube Goldberg Machine the size of the SEC Atrium! \n“Chain Reaction machines” (sometimes known as Rube Goldberg machines) have been a classic example of demonstrating the transfer of energy\, laws of motion\, and several other practical applications of engineering while providing creators with a hands-on making experience. Several teams of first-year students will be responsible for a “section” of the overall machine\, with a triggering of section-by-section and overall collaborative goal of a start-to-finish system.
URL:https://derbyecenter.tufts.edu/event/first-year-engineering-design-challenge-chain-reaction/
LOCATION:Nolop Science and Engineering Center\, 200 College Ave\, Medford\, United States
CATEGORIES:Workshops,eweek24
ATTACH;FMTTYPE=image/png:https://derbyecenter.tufts.edu/wp-content/uploads/2024/01/Screenshot-2024-01-18-at-1.51.29-PM.png
END:VEVENT
END:VCALENDAR