BEGIN:VCALENDAR
VERSION:2.0
PRODID:-//Derby Entrepreneurship Center at Tufts - ECPv6.15.16//NONSGML v1.0//EN
CALSCALE:GREGORIAN
METHOD:PUBLISH
X-WR-CALNAME:Derby Entrepreneurship Center at Tufts
X-ORIGINAL-URL:https://derbyecenter.tufts.edu
X-WR-CALDESC:Events for Derby Entrepreneurship Center at Tufts
REFRESH-INTERVAL;VALUE=DURATION:PT1H
X-Robots-Tag:noindex
X-PUBLISHED-TTL:PT1H
BEGIN:VTIMEZONE
TZID:America/New_York
BEGIN:DAYLIGHT
TZOFFSETFROM:-0500
TZOFFSETTO:-0400
TZNAME:EDT
DTSTART:20230312T070000
END:DAYLIGHT
BEGIN:STANDARD
TZOFFSETFROM:-0400
TZOFFSETTO:-0500
TZNAME:EST
DTSTART:20231105T060000
END:STANDARD
BEGIN:DAYLIGHT
TZOFFSETFROM:-0500
TZOFFSETTO:-0400
TZNAME:EDT
DTSTART:20240310T070000
END:DAYLIGHT
BEGIN:STANDARD
TZOFFSETFROM:-0400
TZOFFSETTO:-0500
TZNAME:EST
DTSTART:20241103T060000
END:STANDARD
BEGIN:DAYLIGHT
TZOFFSETFROM:-0500
TZOFFSETTO:-0400
TZNAME:EDT
DTSTART:20250309T070000
END:DAYLIGHT
BEGIN:STANDARD
TZOFFSETFROM:-0400
TZOFFSETTO:-0500
TZNAME:EST
DTSTART:20251102T060000
END:STANDARD
END:VTIMEZONE
BEGIN:VEVENT
DTSTART;TZID=America/New_York:20240307T170000
DTEND;TZID=America/New_York:20240307T210000
DTSTAMP:20260421T041414
CREATED:20240304T182141Z
LAST-MODIFIED:20240307T221356Z
UID:10181-1709830800-1709845200@derbyecenter.tufts.edu
SUMMARY:Tufts $100k - Semifinalists - walk-in biz plan clinic
DESCRIPTION:For Tufts $100k Semifinalists: Stop by during our walk-in business plan clinic and get help developing your financial models\, a necessary part of your appendix to support a rock-solid pitch. In-person only.
URL:https://derbyecenter.tufts.edu/event/100k2024bizplanclinic/
LOCATION:TGI/DEC Offices\, JCC Suite 390\, 177 College Avenue\, Medford\, 02155\, United States
CATEGORIES:Workshops,Tufts $100k New Ventures Competition
ATTACH;FMTTYPE=image/jpeg:https://derbyecenter.tufts.edu/wp-content/uploads/2024/01/100k-whiteonorange.jpg
END:VEVENT
BEGIN:VEVENT
DTSTART;TZID=America/New_York:20240312T170000
DTEND;TZID=America/New_York:20240312T210000
DTSTAMP:20260421T041414
CREATED:20240306T193731Z
LAST-MODIFIED:20240306T194140Z
UID:10226-1710262800-1710277200@derbyecenter.tufts.edu
SUMMARY:Tufts $100k - Semifinalists - walk-in biz plan clinic
DESCRIPTION:For Tufts $100k Semifinalists: Stop by during our walk-in business plan clinic and get help developing your financial models\, a necessary part of your appendix to support a rock-solid pitch. In-person only.
URL:https://derbyecenter.tufts.edu/event/100k2024bizplanclinic2/
LOCATION:TGI/DEC Offices\, JCC Suite 390\, 177 College Avenue\, Medford\, 02155\, United States
CATEGORIES:Workshops,Tufts $100k New Ventures Competition
ATTACH;FMTTYPE=image/jpeg:https://derbyecenter.tufts.edu/wp-content/uploads/2024/01/100k-whiteonorange.jpg
END:VEVENT
BEGIN:VEVENT
DTSTART;TZID=America/New_York:20240314T170000
DTEND;TZID=America/New_York:20240314T210000
DTSTAMP:20260421T041414
CREATED:20240301T183915Z
LAST-MODIFIED:20240301T184239Z
UID:10144-1710435600-1710450000@derbyecenter.tufts.edu
SUMMARY:Tufts $100k - Semifinalists pitch practice / dry run
DESCRIPTION:Want to build your perfect pitch for Game Day? Come over for a walk-in dry run to practice your in-person pitch. We will coach you on content\, delivery and narrative and give you live feedback on stage management and body language.  In person only. For Tufts $100k semifinalists only.  \n 
URL:https://derbyecenter.tufts.edu/event/100k2024dryrun1/
LOCATION:Tufts Venture Lab (JCC301)\, 177 College Ave\, Medford\, MA\, 02155\, United States
CATEGORIES:Workshops,Tufts $100k New Ventures Competition
ATTACH;FMTTYPE=image/jpeg:https://derbyecenter.tufts.edu/wp-content/uploads/2024/01/100k-whiteonorange.jpg
END:VEVENT
END:VCALENDAR